BEGIN:VCALENDAR
VERSION:2.0
PRODID:-//ChamberMaster//Event Calendar 2.0//EN
METHOD:PUBLISH
X-PUBLISHED-TTL:P3D
REFRESH-INTERVAL:P3D
CALSCALE:GREGORIAN
BEGIN:VEVENT
DTSTART:20140215T023000Z
DTEND:20140330T040000Z
X-MICROSOFT-CDO-ALLDAYEVENT:FALSE
SUMMARY:Little Women\, a Little Musical
DESCRIPTION:Brigham's Playhouse is proud to present it's debut production of Little Women\, a Little Musical by Jay Richards. Running February 14th- March 29th at 7:30 p.m. with Saturday matinee's at 2:30 p.m. Please No children under the age of five. Come join us for this special event celebrating the spirit of family and the ultimate journey life can take us on.
X-ALT-DESC;FMTTYPE=text/html:Brigham&#39\;s Playhouse is proud to present it&#39\;s debut production of Little Women\, a Little Musical by Jay Richards. Running February 14th- March 29th at 7:30 p.m. with Saturday matinee&#39\;s at 2:30 p.m. Please No children under the age of five. Come join us for this special event celebrating the spirit of family and the ultimate journey life can take us on.<br />\n<br />\n
LOCATION:25 N. 300 W. Washington\, UT 84780
UID:e.1117.5017
SEQUENCE:3
DTSTAMP:20260421T130104Z
URL:https://business.stgeorgechamber.com/events/details/little-women-a-little-musical-02-14-2014-5017
END:VEVENT

END:VCALENDAR
