BEGIN:VCALENDAR
VERSION:2.0
PRODID:-//ChamberMaster//Event Calendar 2.0//EN
METHOD:PUBLISH
X-PUBLISHED-TTL:P3D
REFRESH-INTERVAL:P3D
CALSCALE:GREGORIAN
BEGIN:VEVENT
DTSTART:20160315T010000Z
DTEND:20160315T030000Z
X-MICROSOFT-CDO-ALLDAYEVENT:FALSE
SUMMARY:Lieto Voices Presents "Say It With Music"
DESCRIPTION:Lieto Voices Presents "Say It With Music" featuring guest artist Merrill Osmond
X-ALT-DESC;FMTTYPE=text/html:Lieto Voices Presents &quot\;Say It With Music&quot\; featuring guest artist Merrill Osmond
LOCATION:Sun River Community Center
UID:e.1117.8451
SEQUENCE:3
DTSTAMP:20260419T234928Z
URL:https://business.stgeorgechamber.com/events/details/lieto-voices-presents-say-it-with-music-03-14-2016-8451
END:VEVENT

END:VCALENDAR
