BEGIN:VCALENDAR
VERSION:2.0
PRODID:-//ChamberMaster//Event Calendar 2.0//EN
METHOD:PUBLISH
X-PUBLISHED-TTL:P3D
REFRESH-INTERVAL:P3D
CALSCALE:GREGORIAN
BEGIN:VEVENT
DTSTART:20150517T010000Z
DTEND:20150517T023000Z
X-MICROSOFT-CDO-ALLDAYEVENT:FALSE
SUMMARY:Lieto Voices Concert
DESCRIPTION:Lieto Voices Choir celebrates Broadway and other favorites.
X-ALT-DESC;FMTTYPE=text/html:Lieto Voices Choir celebrates Broadway and other favorites.
LOCATION:SunRiver Community Center
UID:e.1117.6389
SEQUENCE:3
DTSTAMP:20260420T173249Z
URL:https://business.stgeorgechamber.com/events/details/lieto-voices-concert-05-16-2015-6389
END:VEVENT

END:VCALENDAR
