BEGIN:VCALENDAR
VERSION:2.0
PRODID:-//ChamberMaster//Event Calendar 2.0//EN
METHOD:PUBLISH
X-PUBLISHED-TTL:P3D
REFRESH-INTERVAL:P3D
CALSCALE:GREGORIAN
BEGIN:VEVENT
DTSTART:20141221T020000Z
DTEND:20141221T033000Z
X-MICROSOFT-CDO-ALLDAYEVENT:FALSE
SUMMARY:Lieto Voices Christmas Concert
DESCRIPTION:Lieto Voices annual Christmas concert
X-ALT-DESC;FMTTYPE=text/html:Lieto Voices annual Christmas concert
LOCATION:St. George Tabernacle
UID:e.1117.6229
SEQUENCE:3
DTSTAMP:20260421T011119Z
URL:https://business.stgeorgechamber.com/events/details/lieto-voices-christmas-concert-12-20-2014-6229
END:VEVENT

END:VCALENDAR
