BEGIN:VCALENDAR
VERSION:2.0
PRODID:-//ChamberMaster//Event Calendar 2.0//EN
METHOD:PUBLISH
X-PUBLISHED-TTL:P3D
REFRESH-INTERVAL:P3D
CALSCALE:GREGORIAN
BEGIN:VEVENT
DTSTART:20141216T020000Z
DTEND:20141216T033000Z
X-MICROSOFT-CDO-ALLDAYEVENT:FALSE
SUMMARY:Lieto Voices Christmas Concert
DESCRIPTION:Lieto Voices annual Christmas concert
X-ALT-DESC;FMTTYPE=text/html:Lieto Voices annual Christmas concert
LOCATION:Catholic Church
UID:e.1117.6228
SEQUENCE:3
DTSTAMP:20260420T235106Z
URL:https://business.stgeorgechamber.com/events/details/lieto-voices-christmas-concert-12-15-2014-6228
END:VEVENT

END:VCALENDAR
