BEGIN:VCALENDAR
VERSION:2.0
PRODID:-//ChamberMaster//Event Calendar 2.0//EN
METHOD:PUBLISH
X-PUBLISHED-TTL:P3D
REFRESH-INTERVAL:P3D
CALSCALE:GREGORIAN
BEGIN:VEVENT
DTSTART:20250318T173000Z
DTEND:20250318T190000Z
X-MICROSOFT-CDO-ALLDAYEVENT:FALSE
SUMMARY:Legislative Wrap-up w/ the St. George Lodging & Tourism Assoc.
DESCRIPTION:Legislative wrap-up hosted by the Chamber and the St. George Lodging and Tourism Association. The event will feature members of the Sunshine Caucus\, and officials from St. George and Washington City. The panel will be moderated by Henrie Walton\, Public Policy Committee Chair for the St. George Area Chamber of Commerce.
X-ALT-DESC;FMTTYPE=text/html:Legislative wrap-up hosted by the Chamber and the St. George Lodging and Tourism Association. The event will feature members of the Sunshine Caucus\, and officials from St. George and Washington City. The panel will be moderated by Henrie Walton\, Public Policy Committee Chair for the St. George Area Chamber of Commerce.&nbsp\;
LOCATION:Best Western Plus Abbey Inn 1129 S Bluff S St. George\, UT 84770
UID:e.1117.18051
SEQUENCE:3
DTSTAMP:20260421T142756Z
URL:https://business.stgeorgechamber.com/events/details/legislative-wrap-up-w-the-st-george-lodging-tourism-assoc-18051
END:VEVENT

END:VCALENDAR
