BEGIN:VCALENDAR
VERSION:2.0
PRODID:-//ChamberMaster//Event Calendar 2.0//EN
METHOD:PUBLISH
X-PUBLISHED-TTL:P3D
REFRESH-INTERVAL:P3D
CALSCALE:GREGORIAN
BEGIN:VEVENT
DTSTART:20140905T230000Z
DTEND:20140907T050000Z
X-MICROSOFT-CDO-ALLDAYEVENT:FALSE
SUMMARY:Leeds Wild West Days
DESCRIPTION:Leeds Wild West Days celebrates Leeds early days as an agricultural community alongside the booming mining town of Silver Reef\, which in its heyday in the 1870s had a population greater than that of Saint George. There will be food\, arts & crafts and other vendors\, as well as music and other entertainment throughout the two days. A variety of running events will be held\, with their starting points in the Dixie National Forest\, Pine Valley Ranger District. There will be a Fiddle and Hoedown contest and an astronomy teacher led star gazing event.
X-ALT-DESC;FMTTYPE=text/html:Leeds Wild West Days celebrates Leeds early days as an agricultural community alongside the booming mining town of Silver Reef\, which in its heyday in the 1870s had a population greater than that of Saint George. There will be food\, arts &amp\; crafts and other vendors\, as well as music and other entertainment throughout the two days. A variety of running events will be held\, with their starting points in the Dixie National Forest\, Pine Valley Ranger District. There will be a Fiddle and Hoedown contest and an astronomy teacher led star gazing event.
LOCATION:Park Behind Leeds Town Hall\, 218 N. Main Street in Leeds
UID:e.1117.6090
SEQUENCE:3
DTSTAMP:20260421T043134Z
URL:https://business.stgeorgechamber.com/events/details/leeds-wild-west-days-09-05-2014-6090
END:VEVENT

END:VCALENDAR
