BEGIN:VCALENDAR
VERSION:2.0
PRODID:-//ChamberMaster//Event Calendar 2.0//EN
METHOD:PUBLISH
X-PUBLISHED-TTL:P3D
REFRESH-INTERVAL:P3D
CALSCALE:GREGORIAN
BEGIN:VEVENT
DTSTART:20150305T230000Z
DTEND:20150306T040000Z
X-MICROSOFT-CDO-ALLDAYEVENT:FALSE
SUMMARY:Laughing Cactus of Southern Utah Potpourri Puppet Party
DESCRIPTION:Laughing Cactus of Southern Utah Potpourri Puppet Party We are looking for Puppet Players-come one come all. Are you a puppeteer? Do you want to be one? Bring your own or come use the ones at the DiFiore Center. Explore the puppet resources available. There will be hourderves. Puppet stages will be set up. Plan on a fun event!! 4:00-6:00 pm Students\, 7:00-9:00 pm Adults 18 & older. Free Event
X-ALT-DESC;FMTTYPE=text/html:Laughing Cactus of Southern Utah Potpourri Puppet Party We are looking for Puppet Players-come one come all. Are you a puppeteer? Do you want to be one? Bring your own or come use the ones at the DiFiore Center. Explore the puppet resources available. There will be hourderves. Puppet stages will be set up. Plan on a fun event!! 4:00-6:00 pm Students\, 7:00-9:00 pm Adults 18 &amp\; older. Free Event
LOCATION:The DiFiore Center 307 North Main Street st George\, Utah 84770
UID:e.1117.6286
SEQUENCE:3
DTSTAMP:20260420T191152Z
URL:https://business.stgeorgechamber.com/events/details/laughing-cactus-of-southern-utah-potpourri-puppet-party-03-05-2015-6286
END:VEVENT

END:VCALENDAR
