BEGIN:VCALENDAR
VERSION:2.0
PRODID:-//ChamberMaster//Event Calendar 2.0//EN
METHOD:PUBLISH
X-PUBLISHED-TTL:P3D
REFRESH-INTERVAL:P3D
CALSCALE:GREGORIAN
BEGIN:VEVENT
DTSTART:20150627T160000Z
DTEND:20150627T163000Z
X-MICROSOFT-CDO-ALLDAYEVENT:FALSE
SUMMARY:Laughing Cactus of Southern Utah
DESCRIPTION:The Laughing Cactus Puppetry Guild presen ts their first puppet performance on June 27th- Saturday at 10:00am at the Difiore Center in St George. Come & join our special guest puppeteer Julia Valerius from Enoch. The show is half hour\, the fee is $3 per person. This will be a monthly series\, a puppet show the last Saturday of each month\, so put it on your calendars !! DiFiore Center is located at 307 N Main St\, St George\, Utah 435-673-4206 See you there !!!! ++++ Puppets will be for sale +++++
X-ALT-DESC;FMTTYPE=text/html:The Laughing Cactus Puppetry Guild presen ts their first puppet performance on June 27th- Saturday at 10:00am at the Difiore Center in St George. Come &amp\; join our special guest puppeteer Julia Valerius from Enoch. The show is half hour\, the fee is $3 per person. This will be a monthly series\, a puppet show the last Saturday of each month\, so put it on your calendars !! DiFiore Center is located at 307 N Main St\, St George\, Utah 435-673-4206 See you there !!!! ++++ Puppets will be for sale +++++
LOCATION:The DiFiore Center
UID:e.1117.6470
SEQUENCE:3
DTSTAMP:20260420T135605Z
URL:https://business.stgeorgechamber.com/events/details/laughing-cactus-of-southern-utah-06-27-2015-6470
END:VEVENT

END:VCALENDAR
