BEGIN:VCALENDAR
VERSION:2.0
PRODID:-//ChamberMaster//Event Calendar 2.0//EN
METHOD:PUBLISH
X-PUBLISHED-TTL:P3D
REFRESH-INTERVAL:P3D
CALSCALE:GREGORIAN
BEGIN:VEVENT
DTSTART:20131206T230000Z
DTEND:20131207T013000Z
X-MICROSOFT-CDO-ALLDAYEVENT:FALSE
SUMMARY:Kurt Bestor in Concert at Tuacahn
DESCRIPTION:A Holiday favorite\, Kurt Bestor is an Emmy-award-winning composer\, who for over 30 years has composed an incredible variety of music in a myriad of styles and genres. From over 40 feature-length films\, 16 popular CDs\, numerous television themes\, and mix of live shows\, he has established himself as one of America's most prolific and versatile composers.\n\n	As a gifted performer\, Bestor has performed his popular holiday shows for over 24 years to sold-out audiences throughout the western United States. People from Seattle to Dallas have enjoyed his easy-going manner and rapport with the audience. Bestor has also performed internationally\, conducting and performing with the Royal Liverpool Philharmonic Orchestra and Choir\, the Estonian National Orchestra\, among others.\n\n	\n\n	Purchase tickets now by calling the Box Office at 800.746.9882 or order online at http://www.tuacahn.org/concerts-2012.php#a.KurtBestor2012
X-ALT-DESC;FMTTYPE=text/html:<p>\n	A Holiday favorite\, Kurt Bestor is an Emmy-award-winning composer\, who for over 30 years has composed an incredible variety of music in a myriad of styles and genres. From over 40 feature-length films\, 16 popular CDs\, numerous television themes\, and mix of live shows\, he has established himself as one of America&#39\;s most prolific and versatile composers.</p>\n<p>\n	As a gifted performer\, Bestor has performed his popular holiday shows for over 24 years to sold-out audiences throughout the western United States. People from Seattle to Dallas have enjoyed his easy-going manner and rapport with the audience. Bestor has also performed internationally\, conducting and performing with the Royal Liverpool Philharmonic Orchestra and Choir\, the Estonian National Orchestra\, among others.<br />\n	<br />\n	Purchase tickets now by calling the Box Office at 800.746.9882 or order online at <a href="http://www.tuacahn.org/concerts-2012.php#a.KurtBestor2012">http://www.tuacahn.org/concerts-2012.php#a.KurtBestor2012</a></p>\n
LOCATION:Tuacahn Hafen Theatre 1100 Tuacahn Drive St. George\, 87438
UID:e.1117.4941
SEQUENCE:3
DTSTAMP:20260421T182203Z
URL:https://business.stgeorgechamber.com/events/details/kurt-bestor-in-concert-at-tuacahn-12-06-2013-4941
END:VEVENT

END:VCALENDAR
