BEGIN:VCALENDAR
VERSION:2.0
PRODID:-//ChamberMaster//Event Calendar 2.0//EN
METHOD:PUBLISH
X-PUBLISHED-TTL:P3D
REFRESH-INTERVAL:P3D
CALSCALE:GREGORIAN
BEGIN:VEVENT
DTSTART:20150831T170000Z
DTEND:20151001T000000Z
X-MICROSOFT-CDO-ALLDAYEVENT:FALSE
SUMMARY:Kirsten Holt-Beitler Gallery Show
DESCRIPTION:September -The DiFiore Center Kirsten Holt-Beitler Gallery Show * DAYS: Tuesday - Saturday * HOURS: 11:00 a.m. - 6:00 p.m. * By Appointment: 435.673.4206 or 435.772.ARTS (2787) Gallery Show Opening  Saturday\, August 29th / 6:00 - 8:00 p.m.
X-ALT-DESC;FMTTYPE=text/html:September -The DiFiore Center Kirsten Holt-Beitler Gallery Show * DAYS: Tuesday -&nbsp\;Saturday * HOURS: 11:00 a.m. -&nbsp\;6:00 p.m. * By Appointment: 435.673.4206 or 435.772.ARTS (2787) Gallery Show Opening &nbsp\;Saturday\, August 29th / 6:00 - 8:00 p.m.
LOCATION:The DiFiore Center 307 North Main Street St George\, Utah 84770
UID:e.1117.7042
SEQUENCE:3
DTSTAMP:20260420T090222Z
URL:https://business.stgeorgechamber.com/events/details/kirsten-holt-beitler-gallery-show-08-31-2015-7042
END:VEVENT

END:VCALENDAR
