BEGIN:VCALENDAR
VERSION:2.0
PRODID:-//ChamberMaster//Event Calendar 2.0//EN
METHOD:PUBLISH
X-PUBLISHED-TTL:P3D
REFRESH-INTERVAL:P3D
CALSCALE:GREGORIAN
BEGIN:VEVENT
DTSTART:20160507T220000Z
DTEND:20160508T000000Z
X-MICROSOFT-CDO-ALLDAYEVENT:FALSE
SUMMARY:Kentucky Derby Party
DESCRIPTION:Ticket includes:\n\n*Entry ticket to random drawings\n\n*Entry into the Best Hat Contest\n\n*One Complimentary Well Cocktail\, Beer or Glass of House Wine\n\n*Complimentary Hors D'ouvres
X-ALT-DESC;FMTTYPE=text/html:Ticket includes:<br />\n*Entry ticket to random drawings<br />\n*Entry into the Best Hat Contest<br />\n*One Complimentary Well Cocktail\, Beer or Glass of House Wine<br />\n*Complimentary Hors D&#39\;ouvres
LOCATION:Season Ultra Lounge at the Eureka Casino 275 Mesa Blvd. Mesquite\, NV
UID:e.1117.8548
SEQUENCE:3
DTSTAMP:20260419T183142Z
URL:https://business.stgeorgechamber.com/events/details/kentucky-derby-party-05-07-2016-8548
END:VEVENT

END:VCALENDAR
