BEGIN:VCALENDAR
VERSION:2.0
PRODID:-//ChamberMaster//Event Calendar 2.0//EN
METHOD:PUBLISH
X-PUBLISHED-TTL:P3D
REFRESH-INTERVAL:P3D
CALSCALE:GREGORIAN
BEGIN:VEVENT
DTSTART;VALUE=DATE:20150905
DTEND;VALUE=DATE:20150906
TRANSP:TRANSPARENT
X-MICROSOFT-CDO-ALLDAYEVENT:TRUE
SUMMARY:Kendama Tournament
DESCRIPTION:
X-ALT-DESC;FMTTYPE=text/html:
LOCATION:Peach Days - Hurricane\, Utah
UID:e.1117.6460
SEQUENCE:3
DTSTAMP:20260420T100610Z
URL:https://business.stgeorgechamber.com/events/details/kendama-tournament-09-05-2015-6460
END:VEVENT

END:VCALENDAR
