BEGIN:VCALENDAR
VERSION:2.0
PRODID:-//ChamberMaster//Event Calendar 2.0//EN
METHOD:PUBLISH
X-PUBLISHED-TTL:P3D
REFRESH-INTERVAL:P3D
CALSCALE:GREGORIAN
BEGIN:VEVENT
DTSTART;VALUE=DATE:20140426
DTEND;VALUE=DATE:20140428
TRANSP:TRANSPARENT
X-MICROSOFT-CDO-ALLDAYEVENT:TRUE
SUMMARY:Kayenta Street Painting Festival
DESCRIPTION:Each spring\, KSPF brings students and professional artists together for a full weekend of creating colorful\, chalk-art expositions. Using asphalt for a canvas and chalk as a medium\, large painted murals unfold at the hands of artists over the course of two days and at the feet of thousands of spectators. Last year\, KSPF attendance exceeded 3\,221 visitors representing 18 Utah counties\, 33 states\, and eight foreign countries.
X-ALT-DESC;FMTTYPE=text/html:Each spring\, KSPF brings students and professional artists together for a full weekend of creating colorful\, chalk-art expositions. Using asphalt for a canvas and chalk as a medium\, large painted murals unfold at the hands of artists over the course of two days and at the feet of thousands of spectators. Last year\, KSPF attendance exceeded 3\,221 visitors representing 18 Utah counties\, 33 states\, and eight foreign countries.
LOCATION:
UID:e.1117.5079
SEQUENCE:3
DTSTAMP:20260421T112746Z
URL:https://business.stgeorgechamber.com/events/details/kayenta-street-painting-festival-04-26-2014-5079
END:VEVENT

END:VCALENDAR
