BEGIN:VCALENDAR
VERSION:2.0
PRODID:-//ChamberMaster//Event Calendar 2.0//EN
METHOD:PUBLISH
X-PUBLISHED-TTL:P3D
REFRESH-INTERVAL:P3D
CALSCALE:GREGORIAN
BEGIN:VEVENT
DTSTART:20150425T160000Z
DTEND:20150427T000000Z
X-MICROSOFT-CDO-ALLDAYEVENT:FALSE
SUMMARY:Kayenta Street Painting Festival
DESCRIPTION:Each spring\, KSPF brings students and professional artists together for a full weekend of creating colorful\, chalk-art expositions. Using asphalt for a canvas and chalk as a medium\, large painted murals unfold at the hands of artists over the course of two days and at the feet of thousands of spectators. Last year\, KSPF attendance exceeded 3\,221 visitors representing 18 Utah counties\, 33 states\, and eight foreign countries.
X-ALT-DESC;FMTTYPE=text/html:Each spring\, KSPF brings students and professional artists together for a full weekend of creating colorful\, chalk-art expositions. Using asphalt for a canvas and chalk as a medium\, large painted murals unfold at the hands of artists over the course of two days and at the feet of thousands of spectators. Last year\, KSPF attendance exceeded 3\,221 visitors representing 18 Utah counties\, 33 states\, and eight foreign countries.
LOCATION:Kayenta Art Village 875 Coyote Gulch Court Ivins\, UT
UID:e.1117.6375
SEQUENCE:3
DTSTAMP:20260420T173430Z
URL:https://business.stgeorgechamber.com/events/details/kayenta-street-painting-festival-04-25-2015-6375
END:VEVENT

END:VCALENDAR
