BEGIN:VCALENDAR
VERSION:2.0
PRODID:-//ChamberMaster//Event Calendar 2.0//EN
METHOD:PUBLISH
X-PUBLISHED-TTL:P3D
REFRESH-INTERVAL:P3D
CALSCALE:GREGORIAN
BEGIN:VEVENT
DTSTART;VALUE=DATE:20130413
DTEND;VALUE=DATE:20130415
TRANSP:TRANSPARENT
X-MICROSOFT-CDO-ALLDAYEVENT:TRUE
SUMMARY:Kayenta Street Festival
DESCRIPTION:The Kayenta Street Painting Festival is a fundraiser for the Kayenta Arts Foundation. In 2013 our festival takes place April 13-14 once again in the beautiful streets of the Coyote Gulch Art Village in the Kayenta Desert Community. Held annually\, this is a full weekend event that brings students and professional artists together to create a colorful chalk explosion. With the asphalt as a canvas and chalk as the medium\, large painted murals will unfold at the feet of the spectators. Come on Saturday morning\, the first day\, to see the early sketches of the works and see the student competition. Come back Sunday to see local professional artists complete their masterpieces. This is a great opportunity that brings business community together with artists and students for an amazing collaborative event.
X-ALT-DESC;FMTTYPE=text/html:<span style="font-family:verdana\;"><span style="font-size: 16px\;">The Kayenta Street Painting Festival is a fundraiser for the Kayenta Arts Foundation. In 2013 our festival takes place April 13-14 once again in the beautiful streets of the Coyote Gulch Art Village in the Kayenta Desert Community. Held annually\, this is a full weekend event that brings students and professional artists together to create a colorful chalk explosion. With the asphalt as a canvas and chalk as the medium\, large painted murals will unfold at the feet of the spectators. Come on Saturday morning\, the first day\, to see the early sketches of the works and see the student competition. Come back Sunday to see local professional artists complete their masterpieces. This is a great opportunity that brings business community together with artists and students for an amazing collaborative event.</span></span>
LOCATION:
UID:e.1117.2929
SEQUENCE:3
DTSTAMP:20260422T061953Z
URL:https://business.stgeorgechamber.com/events/details/kayenta-street-festival-04-13-2013-2929
END:VEVENT

END:VCALENDAR
