BEGIN:VCALENDAR
VERSION:2.0
PRODID:-//ChamberMaster//Event Calendar 2.0//EN
METHOD:PUBLISH
X-PUBLISHED-TTL:P3D
REFRESH-INTERVAL:P3D
CALSCALE:GREGORIAN
BEGIN:VEVENT
DTSTART:20150214T170000Z
DTEND:20150216T000000Z
X-MICROSOFT-CDO-ALLDAYEVENT:FALSE
SUMMARY:Kayenta Gallery Walk & Artisan Street Market
DESCRIPTION:A smaller and more intimate affair that showcases fine art\, home decor\, jewelry\, design and inspiration.  Enjoy great food\, wine\, beer\, art and entertainment in a relaxed setting.
X-ALT-DESC;FMTTYPE=text/html:<span style="font-size:14px\;"><span style="font-family: arial\;">A smaller and more intimate affair that showcases fine art\, home decor\, jewelry\, design and inspiration.&nbsp\; Enjoy great food\, wine\, beer\, art and entertainment in a relaxed setting.</span></span>
LOCATION:800 Coyote Gulch Court Ivins\, Utah
UID:e.1117.6296
SEQUENCE:3
DTSTAMP:20260420T205637Z
URL:https://business.stgeorgechamber.com/events/details/kayenta-gallery-walk-artisan-street-market-02-14-2015-6296
END:VEVENT

END:VCALENDAR
