BEGIN:VCALENDAR
VERSION:2.0
PRODID:-//ChamberMaster//Event Calendar 2.0//EN
METHOD:PUBLISH
X-PUBLISHED-TTL:P3D
REFRESH-INTERVAL:P3D
CALSCALE:GREGORIAN
BEGIN:VEVENT
DTSTART:20150919T000000Z
DTEND:20150919T020000Z
X-MICROSOFT-CDO-ALLDAYEVENT:FALSE
SUMMARY:Julie Rogers at The Mission Gallery
DESCRIPTION:Nationally renowned painter Julie Rogers will be doing a live demo at The Mission Gallery during September's Art on Main Gallery Stroll.
X-ALT-DESC;FMTTYPE=text/html:Nationally renowned painter Julie Rogers will be doing a live demo at The Mission Gallery during September&#39\;s Art on Main Gallery Stroll.
LOCATION:The Mission Gallery\, 173 N. Main St.\, St. George\, UT 84770
UID:e.1117.7086
SEQUENCE:3
DTSTAMP:20260420T085154Z
URL:https://business.stgeorgechamber.com/events/details/julie-rogers-at-the-mission-gallery-09-18-2015-7086
END:VEVENT

END:VCALENDAR
