BEGIN:VCALENDAR
VERSION:2.0
PRODID:-//ChamberMaster//Event Calendar 2.0//EN
METHOD:PUBLISH
X-PUBLISHED-TTL:P3D
REFRESH-INTERVAL:P3D
CALSCALE:GREGORIAN
BEGIN:VEVENT
DTSTART:20131121T190000Z
DTEND:20131121T203000Z
X-MICROSOFT-CDO-ALLDAYEVENT:FALSE
SUMMARY:Jubilee of Trees Luncheon
DESCRIPTION:Terri L. Kane\, Dixie Regional Medical Center's Administrator/CEO\, will be our keynote speaker for this luncheon.\n\n	This year's Jubilee will be raising funds to advance Dixie Regional's Trauma Services from Level III to Level II. Through the launch of the new Neurological Institute\, clinicians and specialists will provide integrated treatment for neurological diseases and incidents such as stroke\, head trauma and cancer\; foster collaborative and team-based approaches to clinical problems\; and focus on improved patient outcomes with advanced care close to home.\n\n	 \n\n	Special thanks to our luncheon Sponsor Heritage Bank. Heritage Bank has been meeting the mortgage needs of its customers since 1917.  Heritage Bank is and has always been based in St. George.\n\n	The Jubilee of Trees is the largest showcase of custom designed Christmas trees and wreaths between Salt Lake and Las Vegas.  For the greater Washington County area\, the Jubilee of trees has become a tradition attracting friends and neighbors to gather and welcome the holiday season together.  Volunteer driven - it is a showcase of spectacular\, custom designed full size Christmas trees\, mini and table-top trees\, holiday wreaths\, gingerbread houses and seasonal decor.  The distinction of southern Utah talent embraces visitors with its dynamic celebratory spirit that will appeal to all ages. \n\n	In addition to the gifts of glad tiding\, the Jubilee has raised millions of dollars to strengthen our not-for-profit hospital.  In turn\, Dixie Regional Medical Center supports the community with excellent medical services and care that most area our size only dream about.  The Jubilee of Trees is a tremendous win/win created by and for the  people of Southern Utah.
X-ALT-DESC;FMTTYPE=text/html:<p>\n	<span style="font-size:14px\;">Terri L. Kane\, Dixie Regional Medical Center&#39\;s Administrator/CEO\, will be our keynote speaker for this luncheon.</span></p>\n<p>\n	<span style="font-size:14px\;">This year&rsquo\;s Jubilee will be raising funds to advance Dixie Regional&rsquo\;s Trauma Services from Level III to Level II. Through the launch of the new Neurological Institute\, clinicians and specialists will provide integrated treatment for neurological diseases and incidents such as stroke\, head trauma and cancer\; foster collaborative and team-based approaches to clinical problems\; and focus on improved patient outcomes with advanced care close to home.<br />\n	&nbsp\;<br />\n	Special thanks to our luncheon Sponsor Heritage Bank. Heritage Bank has been meeting the mortgage needs of its customers since 1917.&nbsp\; Heritage Bank is and has always been based in St. George.</span></p>\n<p>\n	<span style="font-size:14px\;">The Jubilee of Trees is the largest showcase of custom designed Christmas trees and wreaths between Salt Lake and Las Vegas.&nbsp\; For the greater Washington County area\, the Jubilee of trees has become a tradition attracting friends and neighbors to gather and welcome the holiday season together.&nbsp\; Volunteer driven - it is a showcase of spectacular\, custom designed full size Christmas trees\, mini and table-top trees\, holiday wreaths\, gingerbread houses and seasonal decor.&nbsp\; The distinction of southern Utah talent embraces visitors with its dynamic celebratory spirit that will appeal to all ages.&nbsp\;</span></p>\n<p>\n	<span style="font-size:14px\;">In addition to the gifts of glad tiding\, the Jubilee has raised millions of dollars to strengthen our not-for-profit hospital.&nbsp\; In turn\, Dixie Regional Medical Center supports the community with excellent medical services and care that most area our size only dream about.&nbsp\; The Jubilee of Trees is a tremendous win/win created by and for the&nbsp\; people of Southern Utah.</span></p>\n
LOCATION:Dixie Convention Center 1835 Convention Center Drive
UID:e.1117.4296
SEQUENCE:3
DTSTAMP:20260421T183430Z
URL:https://business.stgeorgechamber.com/events/details/jubilee-of-trees-luncheon-11-21-2013-4296
END:VEVENT

END:VCALENDAR
