BEGIN:VCALENDAR
VERSION:2.0
PRODID:-//ChamberMaster//Event Calendar 2.0//EN
METHOD:PUBLISH
X-PUBLISHED-TTL:P3D
REFRESH-INTERVAL:P3D
CALSCALE:GREGORIAN
BEGIN:VEVENT
DTSTART:20141120T190000Z
DTEND:20141120T203000Z
X-MICROSOFT-CDO-ALLDAYEVENT:FALSE
SUMMARY:Jubilee of Trees Luncheon
DESCRIPTION:We're excited to announce the 34th Annual Jubilee of Trees   now a tradition celebrated by thousands throughout southern Utah as well as a fundraiser bringing distinction to Dixie Regional Medical Center.\n\nTo keep pace with increasing growth and to sustain Dixie Regional as the largest center for advanced medical care in the geographically isolated area between the Wasatch Front and Las Vegas\, Intermountain Healthcare will invest capital dollars approaching $200 million in the next five years. This commitment in areas including elevated trauma care\, neurosurgery\, women and children\, and personalized cancer treatment through genomic sequencing requires extensive hospital expansion of Dixie Regional's River Road facilities to more than three-quarters of a million square feet\, with accompanying need for new talent and new technologies. \n\nFrom a 126 bed small town hospital with few services beyond welcoming newborns\, general surgery and stabilizing emergency care\, we've grown to 245 beds on two campuses\, offering advanced critical services such as open heart surgery\, newborn intensive care\, acute rehabilitation and state of the art stroke intervention. Dixie Regional's awards for best national outcomes in these areas and more\, means residents and visitors can rest assured that our community hospital now delivers world class healthcare. \n\n \n\nSpecial thanks to our luncheon Sponsor Heritage Bank. Heritage Bank has been meeting the mortgage needs of its customers since 1917.  Heritage Bank is and has always been based in St. George.\n\nThe Jubilee of Trees is the largest showcase of custom designed Christmas trees and wreaths between Salt Lake and Las Vegas.  For the greater Washington County area\, the Jubilee of trees has become a tradition attracting friends and neighbors to gather and welcome the holiday season together.  Volunteer driven - it is a showcase of spectacular\, custom designed full size Christmas trees\, mini and table-top trees\, holiday wreaths\, gingerbread houses and seasonal decor.  The distinction of southern Utah talent embraces visitors with its dynamic celebratory spirit that will appeal to all ages.
X-ALT-DESC;FMTTYPE=text/html:<p><span style="font-size:14px\;"><span style="font-family:arial\;">We&#39\;re excited to announce the 34th Annual Jubilee of Trees<span style="line-height: 115%\;"> &mdash\;</span> now a tradition celebrated by thousands throughout southern Utah as well as a fundraiser bringing distinction to Dixie Regional Medical Center.</span></span></p>\n\n<p><span style="font-size:14px\;"><span style="font-family:arial\;">To keep pace with increasing growth and to sustain Dixie Regional as the largest center for advanced medical care in the geographically isolated area between the Wasatch Front and Las Vegas\, Intermountain Healthcare will invest capital dollars approaching $200 million in the next five years. This commitment in areas including elevated trauma care\, neurosurgery\, women and children\, and personalized cancer treatment through genomic sequencing requires extensive hospital expansion of Dixie Regional&#39\;s River Road facilities to more than three-quarters of a million square feet\, with accompanying need for new talent and new technologies.&nbsp\;</span></span></p>\n\n<p><span style="font-size:14px\;"><span style="font-family:arial\;">From a 126 bed small town hospital with few services beyond welcoming newborns\, general surgery and stabilizing emergency care\, we&#39\;ve grown to 245 beds on two campuses\, offering advanced critical services such as open heart surgery\, newborn intensive care\, acute rehabilitation and state of the art stroke intervention. Dixie Regional&#39\;s awards for best national outcomes in these areas and more\, means residents and visitors can rest assured that our community hospital now delivers world class healthcare.&nbsp\;</span></span></p>\n\n<p><span style="font-size:14px\;"><span style="font-family:arial\;">&nbsp\;<br />\nSpecial thanks to our luncheon Sponsor Heritage Bank. Heritage Bank has been meeting the mortgage needs of its customers since 1917.&nbsp\; Heritage Bank is and has always been based in St. George.</span></span></p>\n\n<p><span style="font-size:14px\;"><span style="font-family:arial\;">The Jubilee of Trees is the largest showcase of custom designed Christmas trees and wreaths between Salt Lake and Las Vegas.&nbsp\; For the greater Washington County area\, the Jubilee of trees has become a tradition attracting friends and neighbors to gather and welcome the holiday season together.&nbsp\; Volunteer driven - it is a showcase of spectacular\, custom designed full size Christmas trees\, mini and table-top trees\, holiday wreaths\, gingerbread houses and seasonal decor.&nbsp\; The distinction of southern Utah talent embraces visitors with its dynamic celebratory spirit that will appeal to all ages.</span></span></p>\n
LOCATION:Dixie Convention Center 1835 Convention Center Drive
UID:e.1117.6163
SEQUENCE:3
DTSTAMP:20260421T011811Z
URL:https://business.stgeorgechamber.com/events/details/jubilee-of-trees-luncheon-11-20-2014-6163
END:VEVENT

END:VCALENDAR
