BEGIN:VCALENDAR
VERSION:2.0
PRODID:-//ChamberMaster//Event Calendar 2.0//EN
METHOD:PUBLISH
X-PUBLISHED-TTL:P3D
REFRESH-INTERVAL:P3D
CALSCALE:GREGORIAN
BEGIN:VEVENT
DTSTART:20151119T190000Z
DTEND:20151119T203000Z
X-MICROSOFT-CDO-ALLDAYEVENT:FALSE
SUMMARY:Jubilee of Trees Luncheon
DESCRIPTION:Bring your staff and kick off the holiday season by hearing about some of the amazing things happening with healthcare here in Southern Utah. Hear directly from the doctors themselves\, their experiences\, hopes and patient success stories.  This luncheon kicks off the Jubilee of Trees Festival. Make sure to stay after the luncheon\, take a tour of the trees and feel the holiday spirit.\n\n\n\nIn 2015 our key initiative is the Advancement of Trauma Care and Neurosciences in Southern Utah.  Dixie Regional Medical Center is currently in the process of elevating its trauma services from a Level III to Level II Trauma Center.  A trauma center is more than an emergency department\, and offers a verified hospital facility capable of specialized treatment for the most critical injuries. The Level II designation includes 24-hour immediate coverage by general surgeons\, as well as coverage by the specialties of orthopedic surgery\, neurosurgery\, anesthesiology\, emergency medicine\, radiology and critical care.  With the addition of neurosurgery and a neurosurgeon available 24/7\, Dixie Regional Medical Center attains the full arsenal of highly trained specialists necessary for a Trauma II Center. The time from injury to highly specialized trauma hospital care is critical in saving lives and decreasing disabilities\, and trauma centers provide the increasing level of care that can make the difference between life and death.
X-ALT-DESC;FMTTYPE=text/html:<p><span style="color:#000000\;"><span style="font-size:14px\;"><span style="font-family:arial\;">Bring your staff and kick off the holiday season by hearing about some of the amazing things happening with healthcare here in Southern Utah. Hear directly from the doctors themselves\, their experiences\, hopes and patient success stories. &nbsp\;This luncheon kicks off the Jubilee of Trees Festival. Make sure to stay after the luncheon\, take a tour of the trees and feel the holiday spirit.<br />\n<br />\nIn 2015 our key initiative is the <strong>Advancement of Trauma Care and Neurosciences </strong>in Southern Utah.&nbsp\; Dixie Regional Medical Center is currently in the process of elevating its trauma services from a Level III to Level II Trauma Center.&nbsp\; A trauma center is more than an emergency department\, and offers a verified hospital facility capable of specialized treatment for the most critical injuries. The Level II designation includes 24-hour immediate coverage by general surgeons\, as well as coverage by the specialties of orthopedic surgery\, neurosurgery\, anesthesiology\, emergency medicine\, radiology and critical care.&nbsp\; With the addition of neurosurgery and a neurosurgeon available 24/7\, Dixie Regional Medical Center attains the full arsenal of highly trained specialists necessary for a Trauma II Center. The time from injury to highly specialized trauma hospital care is critical in saving lives and decreasing disabilities\, and trauma centers provide the increasing level of care that can make the difference between life and death.&nbsp\;</span></span></span></p>\n
LOCATION:Dixie Convention Center 1835 Convention Center Drive
UID:e.1117.7276
SEQUENCE:3
DTSTAMP:20260420T051226Z
URL:https://business.stgeorgechamber.com/events/details/jubilee-of-trees-luncheon-11-19-2015-7276
END:VEVENT

END:VCALENDAR
