BEGIN:VCALENDAR
VERSION:2.0
PRODID:-//ChamberMaster//Event Calendar 2.0//EN
METHOD:PUBLISH
X-PUBLISHED-TTL:P3D
REFRESH-INTERVAL:P3D
CALSCALE:GREGORIAN
BEGIN:VEVENT
DTSTART:20131121T050000Z
DTEND:20131126T030000Z
X-MICROSOFT-CDO-ALLDAYEVENT:FALSE
SUMMARY:Jubilee of Trees Festival
DESCRIPTION:Life is wonderful But it can change In the blink of an eye.  Dixie Regional embraces life and recognizes the need to be ready for those unexpected moments.\n\n	The 2013 Jubilee of Trees is committed to elevating Dixie Regional's trauma care to Level II   to ensure the most comprehensive and advanced lifesaving care is available\, 24/7\, right here at home when needed.\n\n	Dixie Regional today offers an outstanding level of trauma care  but many patients each year still require transport to a facility outside southern Utah to receive life-saving care especially for severe head\, spinal  and other neurological injuries.\n\n	The 2013 Jubilee of Trees wants to ignite that special holiday spirit and bring happiness to all\, from the young to the young-at-heart.  It also wants to ensure good health and a high quality of life by \n\n	\n		Ensuring the full spectrum of trauma care is available\, here at home\, when needed\n	\n		Preventing critically injured patients from losing precious time to care\n	\n		Sparing families the stresses and financial burdens imposed by travel for care\n	\n		Making a real difference in our community   from our regional neighbors to those closest to us
X-ALT-DESC;FMTTYPE=text/html:<p style="margin: 0px 0px 20px\; padding: 0px 0px 0px 25px\; border: 0px\; outline: 0px\; font-size: 14px\; vertical-align: baseline\; line-height: 1.8em\; color: rgb(136\, 136\, 136)\; font-family: Muli\, 'Lucida Sans Unicode'\, 'Lucida Grande'\, Verdana\, Tahoma\, Arial\, sans-serif\;">\n	<span style="color:#000000\;"><span style="font-size:14px\;"><span style="font-family:arial\;"><b style="margin: 0px\; padding: 0px\; border: 0px\; outline: 0px\; vertical-align: baseline\; background-color: transparent\;"><i style="margin: 0px\; padding: 0px\; border: 0px\; outline: 0px\; vertical-align: baseline\; background-color: transparent\;">Life is wonderful&hellip\;But it can change&hellip\;In the blink of an eye. &nbsp\;</i></b><b style="line-height: 1.8em\; background-color: transparent\; margin: 0px\; padding: 0px\; border: 0px\; outline: 0px\; vertical-align: baseline\;"><i style="margin: 0px\; padding: 0px\; border: 0px\; outline: 0px\; vertical-align: baseline\; background-color: transparent\;">Dixie Regional embraces life&mdash\;and recognizes the need to be ready for those unexpected moments.</i></b></span></span></span></p>\n<p style="margin: 0px 0px 20px\; padding: 0px 0px 0px 25px\; border: 0px\; outline: 0px\; font-size: 14px\; vertical-align: baseline\; line-height: 1.8em\; color: rgb(136\, 136\, 136)\; font-family: Muli\, 'Lucida Sans Unicode'\, 'Lucida Grande'\, Verdana\, Tahoma\, Arial\, sans-serif\;">\n	<span style="color:#000000\;"><span style="font-size:14px\;"><span style="font-family:arial\;"><b style="margin: 0px\; padding: 0px\; border: 0px\; outline: 0px\; vertical-align: baseline\; background-color: transparent\;"><i style="margin: 0px\; padding: 0px\; border: 0px\; outline: 0px\; vertical-align: baseline\; background-color: transparent\;">The 2013 Jubilee of Trees is committed to elevating Dixie Regional&rsquo\;s trauma care to Level II &mdash\; to ensure the most comprehensive and advanced lifesaving care is available\, 24/7\, right here at home when needed.</i></b></span></span></span></p>\n<p style="margin: 0px 0px 20px\; padding: 0px 0px 0px 25px\; border: 0px\; outline: 0px\; font-size: 14px\; vertical-align: baseline\; line-height: 1.8em\; color: rgb(136\, 136\, 136)\; font-family: Muli\, 'Lucida Sans Unicode'\, 'Lucida Grande'\, Verdana\, Tahoma\, Arial\, sans-serif\;">\n	<span style="color:#000000\;"><span style="font-size:14px\;"><span style="font-family:arial\;">Dixie Regional today offers an outstanding level of trauma care &ndash\;but many patients each year still require transport to a facility outside southern Utah to receive life-saving care&mdash\;especially for severe head\, spinal &nbsp\;and other neurological injuries.</span></span></span></p>\n<p style="margin: 0px 0px 20px\; padding: 0px 0px 0px 25px\; border: 0px\; outline: 0px\; font-size: 14px\; vertical-align: baseline\; line-height: 1.8em\; color: rgb(136\, 136\, 136)\; font-family: Muli\, 'Lucida Sans Unicode'\, 'Lucida Grande'\, Verdana\, Tahoma\, Arial\, sans-serif\;">\n	<span style="color:#000000\;"><span style="font-size:14px\;"><span style="font-family:arial\;">The 2013 Jubilee of Trees wants to ignite that special holiday spirit and bring happiness to all\, from the young to the young-at-heart.&nbsp\; It also wants to ensure good health and a high quality of life by&hellip\;</span></span></span></p>\n<ul style="margin: 0px 0px 0px 25px\; padding-right: 0px\; padding-bottom: 20px\; padding-left: 25px\; border: 0px\; outline: 0px\; font-size: 14px\; vertical-align: baseline\; list-style: circle outside\; color: rgb(136\, 136\, 136)\; font-family: Muli\, 'Lucida Sans Unicode'\, 'Lucida Grande'\, Verdana\, Tahoma\, Arial\, sans-serif\;">\n	<li style="margin: 0px\; padding: 3px 0px\; border: 0px\; outline: 0px\; vertical-align: baseline\; background-color: transparent\; line-height: 1.8em\;">\n		<span style="color:#000000\;"><span style="font-size:14px\;"><span style="font-family:arial\;">Ensuring the full spectrum of trauma care is available\, here at home\, when needed</span></span></span></li>\n	<li style="margin: 0px\; padding: 3px 0px\; border: 0px\; outline: 0px\; vertical-align: baseline\; background-color: transparent\; line-height: 1.8em\;">\n		<span style="color:#000000\;"><span style="font-size:14px\;"><span style="font-family:arial\;">Preventing critically injured patients from losing precious time to care</span></span></span></li>\n	<li style="margin: 0px\; padding: 3px 0px\; border: 0px\; outline: 0px\; vertical-align: baseline\; background-color: transparent\; line-height: 1.8em\;">\n		<span style="color:#000000\;"><span style="font-size:14px\;"><span style="font-family:arial\;">Sparing families the stresses and financial burdens imposed by travel for care</span></span></span></li>\n	<li style="margin: 0px\; padding: 3px 0px\; border: 0px\; outline: 0px\; vertical-align: baseline\; background-color: transparent\; line-height: 1.8em\;">\n		<span style="color:#000000\;"><span style="font-size:14px\;"><span style="font-family:arial\;">Making a real difference in our community &mdash\; from our regional neighbors to those closest to us</span></span></span></li>\n</ul>\n
LOCATION:Dixie Convention Center 1835 Convention Center Drive St. George\, UT
UID:e.1117.4961
SEQUENCE:3
DTSTAMP:20260421T183702Z
URL:https://business.stgeorgechamber.com/events/details/jubilee-of-trees-festival-11-20-2013-4961
END:VEVENT

END:VCALENDAR
