BEGIN:VCALENDAR
VERSION:2.0
PRODID:-//ChamberMaster//Event Calendar 2.0//EN
METHOD:PUBLISH
X-PUBLISHED-TTL:P3D
REFRESH-INTERVAL:P3D
CALSCALE:GREGORIAN
BEGIN:VEVENT
DTSTART;VALUE=DATE:20151119
DTEND;VALUE=DATE:20151124
TRANSP:TRANSPARENT
X-MICROSOFT-CDO-ALLDAYEVENT:TRUE
SUMMARY:Jubilee of Trees Festival
DESCRIPTION:We're excited to announce the 35th Annual Jubilee of Trees   now a tradition celebrated by thousands throughout southern Utah as well as a fundraiser bringing distinction to Dixie Regional Medical Center. \n\nTo keep pace with increasing growth and to sustain Dixie Regional as the largest center for advanced medical care in the geographically isolated area between the Wasatch Front and Las Vegas\, Intermountain Healthcare will invest capital dollars approaching $200 million in the next five years. This commitment in areas including elevated trauma care\, neurosurgery\, women and children\, and personalized cancer treatment through genomic sequencing requires extensive hospital expansion of Dixie Regional's River Road facilities to more than three-quarters of a million square feet\, with accompanying need for new talent and new technologies. \n\nFrom a 126 bed small town hospital with few services beyond welcoming newborns\, general surgery and stabilizing emergency care\, we've grown to 245 beds on two campuses\, offering advanced critical services such as open heart surgery\, newborn intensive care\, acute rehabilitation and state of the art stroke intervention. Dixie Regional's awards for best national outcomes in these areas and more\, means residents and visitors can rest assured that our community hospital now delivers world class healthcare.
X-ALT-DESC;FMTTYPE=text/html:<p style="margin: 0px 0px 10px\; padding: 0px\; border: 0px\; outline: 0px\; font-size: 12px\; line-height: 16.7999992370605px\; color: rgb(30\, 30\, 30)\; font-family: Verdana\, Arial\, Geneva\, Helvetica\, sans-serif\; background-image: initial\; background-attachment: initial\; background-size: initial\; background-origin: initial\; background-clip: initial\; background-position: initial\; background-repeat: initial\;"><span style="font-size:14px\;"><span style="font-family:arial\;">We&#39\;re excited to announce the 35th Annual Jubilee of Trees<span style="margin: 0px\; padding: 0px\; border: 0px\; outline: 0px\; line-height: 16.8666667938232px\; background: transparent\;">&nbsp\;&mdash\;</span>&nbsp\;now a tradition celebrated by thousands throughout southern Utah as well as a fundraiser bringing distinction to Dixie Regional Medical Center.&nbsp\;</span></span></p>\n\n<p style="margin: 0px 0px 10px\; padding: 0px\; border: 0px\; outline: 0px\; font-size: 12px\; line-height: 16.7999992370605px\; color: rgb(30\, 30\, 30)\; font-family: Verdana\, Arial\, Geneva\, Helvetica\, sans-serif\; background-image: initial\; background-attachment: initial\; background-size: initial\; background-origin: initial\; background-clip: initial\; background-position: initial\; background-repeat: initial\;"><span style="font-size:14px\;"><span style="font-family:arial\;">To keep pace with increasing growth and to sustain Dixie Regional as the largest center for advanced medical care in the geographically isolated area between the Wasatch Front and Las Vegas\, Intermountain Healthcare will invest capital dollars approaching $200 million in the next five years. This commitment in areas including elevated trauma care\, neurosurgery\, women and children\, and personalized cancer treatment through genomic sequencing requires extensive hospital expansion of Dixie Regional&#39\;s River Road facilities to more than three-quarters of a million square feet\, with accompanying need for new talent and new technologies.&nbsp\;</span></span></p>\n\n<p style="margin: 0px 0px 10px\; padding: 0px\; border: 0px\; outline: 0px\; font-size: 12px\; line-height: 16.7999992370605px\; color: rgb(30\, 30\, 30)\; font-family: Verdana\, Arial\, Geneva\, Helvetica\, sans-serif\; background-image: initial\; background-attachment: initial\; background-size: initial\; background-origin: initial\; background-clip: initial\; background-position: initial\; background-repeat: initial\;"><span style="font-size:14px\;"><span style="font-family:arial\;">From a 126 bed small town hospital with few services beyond welcoming newborns\, general surgery and stabilizing emergency care\, we&#39\;ve grown to 245 beds on two campuses\, offering advanced critical services such as open heart surgery\, newborn intensive care\, acute rehabilitation and state of the art stroke intervention. Dixie Regional&#39\;s awards for best national outcomes in these areas and more\, means residents and visitors can rest assured that our community hospital now delivers world class healthcare.&nbsp\;</span></span></p>\n
LOCATION:Dixie Convention Center 1835 Convention Center Drive St. George\, UT
UID:e.1117.7112
SEQUENCE:3
DTSTAMP:20260420T051605Z
URL:https://business.stgeorgechamber.com/events/details/jubilee-of-trees-festival-11-19-2015-7112
END:VEVENT

END:VCALENDAR
