BEGIN:VCALENDAR
VERSION:2.0
PRODID:-//ChamberMaster//Event Calendar 2.0//EN
METHOD:PUBLISH
X-PUBLISHED-TTL:P3D
REFRESH-INTERVAL:P3D
CALSCALE:GREGORIAN
BEGIN:VEVENT
DTSTART:20191121T063000Z
DTEND:20171116T200000Z
X-MICROSOFT-CDO-ALLDAYEVENT:FALSE
SUMMARY:Jubilee of Trees Chamber of Commerce Luncheon
DESCRIPTION:Bring your staff and kick off the holiday season.  This luncheon kicks off the Jubilee of Trees Festival. Make sure to stay after the luncheon\, take a tour of the trees and feel the holiday spirit.
X-ALT-DESC;FMTTYPE=text/html:<p><span style="font-size:14px\;"><span style="font-family:arial\;"><span style="color:#000000\;">Bring your staff and kick off the holiday season.&nbsp\; This luncheon kicks off the Jubilee of Trees Festival. Make sure to stay after the luncheon\, take a tour of the trees and feel the holiday spirit.</span></span></span></p>\n
LOCATION:Dixie Convention Center 1835 Convention Center Drive
UID:e.1117.12531
SEQUENCE:3
DTSTAMP:20260421T083952Z
URL:https://business.stgeorgechamber.com/events/details/jubilee-of-trees-chamber-of-commerce-luncheon-12531
END:VEVENT

END:VCALENDAR
