BEGIN:VCALENDAR
VERSION:2.0
PRODID:-//ChamberMaster//Event Calendar 2.0//EN
METHOD:PUBLISH
X-PUBLISHED-TTL:P3D
REFRESH-INTERVAL:P3D
CALSCALE:GREGORIAN
BEGIN:VEVENT
DTSTART:20140427T020000Z
DTEND:20140427T050000Z
X-MICROSOFT-CDO-ALLDAYEVENT:FALSE
SUMMARY:Journey Unauthorized in Concert
DESCRIPTION:JOURNEY UNAUTHORIZED is a concert tribute show that provides nothing less than a great rendition of the 1980's Journey. Their vocals are 100% live with no backing tracks or sampling used.\n\nThey perform the full-range of Journey's multi-part harmonies as in Lights\, Separate Ways\, Who's Cryin' Now\, etc.\, to span the entire era of Journey's repertoire with not only the Steve Perry material\, but with the inclusion of Gregg Rolie's lead vocals Anytime\, Feeling That Way\, and to deliver a high-energy show that's packed with all recognizable songs and mega-hits like Open Arms\, Don't Stop Believin'\, Faithfully\, Any Way You Want It\, Wheel In the Sky\, and many more.
X-ALT-DESC;FMTTYPE=text/html:JOURNEY UNAUTHORIZED is a concert tribute show that provides nothing less than a great rendition of the 1980&#39\;s Journey. Their vocals are 100% live with no backing tracks or sampling used.<br />\nThey perform the full-range of Journey&#39\;s multi-part harmonies as in Lights\, Separate Ways\, Who&#39\;s Cryin&#39\; Now\, etc.\, to span the entire era of Journey&#39\;s repertoire with not only the Steve Perry material\, but with the inclusion of Gregg Rolie&#39\;s lead vocals Anytime\, Feeling That Way\, and to deliver a high-energy show that&#39\;s packed with all recognizable songs and mega-hits like Open Arms\, Don&#39\;t Stop Believin&#39\;\, Faithfully\, Any Way You Want It\, Wheel In the Sky\, and many more.
LOCATION:Tuacahn 1100 Tuacahn Drive Ivins
UID:e.1117.5199
SEQUENCE:3
DTSTAMP:20260421T112042Z
URL:https://business.stgeorgechamber.com/events/details/journey-unauthorized-in-concert-04-26-2014-5199
END:VEVENT

END:VCALENDAR
