BEGIN:VCALENDAR
VERSION:2.0
PRODID:-//ChamberMaster//Event Calendar 2.0//EN
METHOD:PUBLISH
X-PUBLISHED-TTL:P3D
REFRESH-INTERVAL:P3D
CALSCALE:GREGORIAN
BEGIN:VEVENT
DTSTART:20150702T010000Z
DTEND:20150726T040000Z
X-MICROSOFT-CDO-ALLDAYEVENT:FALSE
SUMMARY:Joseph Smith: Praise to the Man at Brigham's Playhouse
DESCRIPTION:The beloved children's classic Anne of Green Gables is showing at Southen Utah's most intimate theatre\, Brigham?s Playhouse and is running through July 11th. Also showing is the original musical Joseph Smith: Praise to the Man. This uplifting production will be offered free to the public\, though donations are encouraged. The shows will alternate nights\, with Anne of Green Gables on Tuesdays\, Thursdays\, and Saturdays\, and Joseph Smith: Praise to the Man on Wednesdays\, Fridays\, and Saturday matinees. The last two weeks of the run\, Joseph Smith: Praise to the Man will run exclusively starting at 7:00pm Tuesdays through Saturdays with an additional matinee performance on Saturdays at 2:00pm. Be sure to get your tickets now as seats are sure to sell out quickly. The Brigham's Playhouse experience is complete with mouth-watering confections\, Brigham's Brew Root Beer\, and our famous fudge and fresh baked cookies\, not to mention Broadway-caliber talent in the best seats Southern Utah has to offer. Don't miss your chance to see this sensational show as tickets are sure to go fast!
X-ALT-DESC;FMTTYPE=text/html:The beloved children&#39\;s classic Anne of Green Gables is showing at Southen Utah&#39\;s most intimate theatre\, Brigham?s Playhouse and is running through July 11th. Also showing is the original musical Joseph Smith: Praise to the Man. This uplifting production will be offered free to the public\, though donations are encouraged. The shows will alternate nights\, with Anne of Green Gables on Tuesdays\, Thursdays\, and Saturdays\, and Joseph Smith: Praise to the Man on Wednesdays\, Fridays\, and Saturday matinees. The last two weeks of the run\, Joseph Smith: Praise to the Man will run exclusively starting at 7:00pm Tuesdays through Saturdays with an additional matinee performance on Saturdays at 2:00pm. Be sure to get your tickets now as seats are sure to sell out quickly. The Brigham&#39\;s Playhouse experience is complete with mouth-watering confections\, Brigham&#39\;s Brew Root Beer\, and our famous fudge and fresh baked cookies\, not to mention Broadway-caliber talent in the best seats Southern Utah has to offer. Don&#39\;t miss your chance to see this sensational show as tickets are sure to go fast!
LOCATION:Brigham's Playhouse 25 North 300 West Washington\, Ut 84780
UID:e.1117.6973
SEQUENCE:3
DTSTAMP:20260420T134648Z
URL:https://business.stgeorgechamber.com/events/details/joseph-smith-praise-to-the-man-at-brigham-s-playhouse-07-01-2015-6973
END:VEVENT

END:VCALENDAR
