BEGIN:VCALENDAR
VERSION:2.0
PRODID:-//ChamberMaster//Event Calendar 2.0//EN
METHOD:PUBLISH
X-PUBLISHED-TTL:P3D
REFRESH-INTERVAL:P3D
CALSCALE:GREGORIAN
BEGIN:VEVENT
DTSTART:20160713T010000Z
DTEND:20160814T030000Z
X-MICROSOFT-CDO-ALLDAYEVENT:FALSE
SUMMARY:Joseph Smith: Praise to the Man
DESCRIPTION:
X-ALT-DESC;FMTTYPE=text/html:
LOCATION:Brigham's Playhouse 25 N 300 W Washington\, UT
UID:e.1117.9024
SEQUENCE:3
DTSTAMP:20260421T083607Z
URL:https://business.stgeorgechamber.com/events/details/joseph-smith-praise-to-the-man-07-12-2016-9024
END:VEVENT

END:VCALENDAR
