BEGIN:VCALENDAR
VERSION:2.0
PRODID:-//ChamberMaster//Event Calendar 2.0//EN
METHOD:PUBLISH
X-PUBLISHED-TTL:P3D
REFRESH-INTERVAL:P3D
CALSCALE:GREGORIAN
BEGIN:VEVENT
DTSTART:20140909T020000Z
DTEND:20140909T050000Z
X-MICROSOFT-CDO-ALLDAYEVENT:FALSE
SUMMARY:Joseph and the Amazing Technicolor Dreamcoat at Tuacahn
DESCRIPTION:The Biblical saga of Joseph and his coat of many colors comes to vibrant life in this exciting musical which will entertain Tuacahn audiences of all ages.  Joseph\, his father's favorite son\, is a boy blessed with prophetic dreams. When he is sold into slavery by his jealous brothers and taken to Egypt\, Joseph endures a series of adventures in which his spirit and humanity are continually challenged. He is purchased by Potiphar where thwarting advances from Potiphar's wife lands him in jail. When news of Joseph's gift to interpret dreams reaches the Pharaoh\, Joseph is well on his way to becoming second in command.\n\n\n\nEventually his brothers\, having suffered greatly\, unknowingly find themselves groveling at the feet of the brother they betrayed but no longer recognize. After testing their integrity\, Joseph reveals himself leading to a heartfelt reconciliation of the sons of Israel. Set to an engaging cornucopia of musical styles\, from country-western and calypso to bubble-gum pop and rock 'n' roll\, this Old Testament tale emerges both timely and timeless.
X-ALT-DESC;FMTTYPE=text/html:The Biblical saga of Joseph and his coat of many colors comes to vibrant life in this exciting musical which will entertain Tuacahn audiences of all ages.&nbsp\; Joseph\, his father&#39\;s favorite son\, is a boy blessed with prophetic dreams. When he is sold into slavery by his jealous brothers and taken to Egypt\, Joseph endures a series of adventures in which his spirit and humanity are continually challenged. He is purchased by Potiphar where thwarting advances from Potiphar&#39\;s wife lands him in jail. When news of Joseph&#39\;s gift to interpret dreams reaches the Pharaoh\, Joseph is well on his way to becoming second in command.<br />\n<br />\nEventually his brothers\, having suffered greatly\, unknowingly find themselves groveling at the feet of the brother they betrayed but no longer recognize. After testing their integrity\, Joseph reveals himself leading to a heartfelt reconciliation of the sons of Israel. Set to an engaging cornucopia of musical styles\, from country-western and calypso to bubble-gum pop and rock &#39\;n&#39\; roll\, this Old Testament tale emerges both timely and timeless.
LOCATION:Tuacahn Amphitheatre 1100 Tuacahn Drive Ivins\, UT
UID:e.1117.5871
SEQUENCE:3
DTSTAMP:20260421T043255Z
URL:https://business.stgeorgechamber.com/events/details/joseph-and-the-amazing-technicolor-dreamcoat-at-tuacahn-09-08-2014-5871
END:VEVENT

END:VCALENDAR
