BEGIN:VCALENDAR
VERSION:2.0
PRODID:-//ChamberMaster//Event Calendar 2.0//EN
METHOD:PUBLISH
X-PUBLISHED-TTL:P3D
REFRESH-INTERVAL:P3D
CALSCALE:GREGORIAN
BEGIN:VEVENT
DTSTART:20141116T023000Z
DTEND:20141116T040000Z
X-MICROSOFT-CDO-ALLDAYEVENT:FALSE
SUMMARY:Jive Aces Concert
DESCRIPTION:Britain's Got Talent stars\, The Jive Aces\, are the UK's No.1 Jive and Swing band.  Renowned for their high energy Jump Jive and swing music & spectacular stage show\, the band's repertoire stretches from the timeless tunes of the swing era to the glitz of the Rat Pack\, with a dash of rhythm & blues\, swing and jazz.  They feature songs made famous by such greats as Louis Prima\, Cab Calloway\, Benny Goodman\, Bobby Darin\, Louis Armstrong\, Sammy Davis Jr. and Ella Fitzgerald   along with a selection of superb originals taken from their albums.  An incredibly in-demand sextet\, they have worked with John Travolta\, Van Morrison\, The Proclaimers\, Keely Smith\, Hayley Westenra an most recently played for Her Majesty The Queen.\n\n \n\nThe Jive Aces headlined (and sold-out) the first ever swing dance at the Royal Albert Hall and have brought the house down with their high energy stage show at thousands of festivals\, theatres\, dancehalls and top events throughout Britain\, Europe\, the USA and beyond\, over 30 countries in all.  They are the official band of the London Season and they have made hundreds of TV and radio appearances including recently a residency on BBC Radio London and TV appearances on "Louis Spence's Showbusiness"\, "Come Dine With Me"\, & "Good Morning Los Angeles".\n\n \n\nIn 2012 The Jive Aces were semi-finalists on "Britain's Got Talent"\, performing show-stopping versions of Jungle Book favorites "I Wanna Be Like You" and 'Bare Necessities" wowing BGT judges Simon Cowell\, David Walliams and Alesha Dixon.\n\n \n\nTheir music video\, "Bring me Sunshine" has become a viral hit with nearly 2-million views on YouTube and received 7 film festival awards including the prestigious "Silver Telly Award".\n\n \n\nFor more information and to view the entire season schedule please visit our website www.celebrityconcertseries.com
X-ALT-DESC;FMTTYPE=text/html:<p><span style="font-size:14px\;"><span style="font-family:arial\;"><em><span style="color:black\;">Britain&rsquo\;s Got Talent</span></em><span style="color:black\;"> stars\, The Jive Aces\, are the UK&rsquo\;s No.1 Jive and Swing band.&nbsp\; Renowned for their high energy Jump Jive and swing music &amp\; spectacular stage show\, the band&rsquo\;s repertoire stretches from the timeless tunes of the swing era to the glitz of the Rat Pack\, with a dash of rhythm &amp\; blues\, swing and jazz.&nbsp\; They feature songs made famous by such greats as Louis Prima\, Cab Calloway\, Benny Goodman\, Bobby Darin\, Louis Armstrong\, Sammy Davis Jr. and Ella Fitzgerald &ndash\; along with a selection of superb originals taken from their albums.&nbsp\; An incredibly in-demand sextet\, they have worked with John Travolta\, Van Morrison\, The Proclaimers\, Keely Smith\, Hayley Westenra an most recently played for Her Majesty The Queen.</span><br />\n&nbsp\;<br />\n<span style="color:black\;">The Jive Aces headlined (and sold-out) the first ever swing dance at the Royal Albert Hall and have brought the house down with their high energy stage show at thousands of festivals\, theatres\, dancehalls and top events throughout Britain\, Europe\, the USA and beyond\, over 30 countries in all.&nbsp\; They are the official band of the London Season and they have made hundreds of TV and radio appearances including recently a residency on BBC Radio London and TV appearances on &ldquo\;Louis Spence&rsquo\;s Showbusiness&rdquo\;\, &ldquo\;Come Dine With Me&rdquo\;\, &amp\; &ldquo\;Good Morning Los Angeles&rdquo\;.</span><br />\n&nbsp\;<br />\n<span style="color:black\;">In 2012 The Jive Aces were semi-finalists on &ldquo\;Britain&rsquo\;s Got Talent&rdquo\;\, performing show-stopping versions of Jungle Book favorites &ldquo\;I Wanna Be Like You&rdquo\; and &lsquo\;Bare Necessities&rdquo\; wowing BGT judges Simon Cowell\, David Walliams and Alesha Dixon.</span><br />\n&nbsp\;<br />\n<span style="color:black\;">Their music video\, &ldquo\;Bring me Sunshine&rdquo\; has become a viral hit with nearly 2-million views on YouTube and received 7 film festival awards including the prestigious &ldquo\;Silver Telly Award&rdquo\;.</span><br />\n&nbsp\;<br />\n<span style="color:black\;">For more information and to view the entire season schedule please visit our website </span><span style="color:black\;"><a href="http://www.celebrityconcertseries.com">www.celebrityconcertseries.com</a></span></span></span></p>\n
LOCATION:Cox Performing Arts Center\, Dixie State University Campus 225 S. 700 E. St. George\, UT
UID:e.1117.6200
SEQUENCE:3
DTSTAMP:20260421T025729Z
URL:https://business.stgeorgechamber.com/events/details/jive-aces-concert-11-15-2014-6200
END:VEVENT

END:VCALENDAR
