BEGIN:VCALENDAR
VERSION:2.0
PRODID:-//ChamberMaster//Event Calendar 2.0//EN
METHOD:PUBLISH
X-PUBLISHED-TTL:P3D
REFRESH-INTERVAL:P3D
CALSCALE:GREGORIAN
BEGIN:VEVENT
DTSTART:20131108T023000Z
DTEND:20131108T043000Z
X-MICROSOFT-CDO-ALLDAYEVENT:FALSE
SUMMARY:Jim Brickman in Concert at Tuacahn
DESCRIPTION:Jim Brickman has become the most commercially successful instrumental pop pianist of the last two decades. Four of his albums have been certified gold by the Recording Industry Association of America   1995's By Heart\, 1997's Picture This and The Gift\, and 1999's Destiny   for sales of more than 500\,000 copies. Overall\, he's sold more than 7 million albums.\n\nHe's amassed 27 Top 40 singles on the adult contemporary charts\, including 14 Top 10 smashes. His collaboration with soaring country songstress Martina McBride\, the beautiful paean to love titled "Valentine\," scored at mainstream country radio in1998\, peaking at No. 9. Other Brickman staples include "Simple Things" with Rebecca Lynn Howard\, "Peace" and "The Gift\," both with Collin Raye and Susan Ashton\, "Never Alone" with Lady Antebellum\, and "Love of My Life" with Michael W. Smith.\n\nThroughout his long career\, Brickman has also shared his artistry with luminaries such as Kenny Loggins\, Carly Simon\, Herb Alpert\, Michael Bolton\, Donny Osmond\, Richie McDonald of country vocal group Lonestar\, smooth jazz saxophonist Dave Koz \, Olivia Newton-John\, and Canadian country singer Michelle Wright. Along the way he's been rewarded for his melodically sublime style with two Grammy Award nominations\, a couple of SESAC "Songwriter of the Year" Awards\, a Canadian Country Music Award and a Dove Award presented by the Gospel Music Association. He's also the author of two best-selling books\, 2001's Simple Things and 2005's Love Notes\, co-written with Cindy Pearlman. You can read more at www.jimbrickman.com\n\nMusic for soothing the aches of daily life and music for hanging the mistletoe\, that's the Jim Brickman way. The highest compliment you can pay this 51-year-old pop pianist is to tell him that his compositions became the soundtrack while delivery a baby\, taking a bubble bath\, enduring chemo therapy\, lulling your little one to sleep\, dancing with daddy at the wedding and falling in love again. "This is more than just 'I love that hit song'\," Brickman said. "It's the experience. I am more about the experimental way that people use the music more so than ever. I want the music to be a constant part of their lives."
X-ALT-DESC;FMTTYPE=text/html:Jim&nbsp\;Brickman&nbsp\;has become the most commercially successful instrumental pop pianist of the last two decades. Four of his albums have been certified gold by the Recording Industry Association of America &ndash\; 1995&rsquo\;s By Heart\, 1997&rsquo\;s Picture This and The Gift\, and 1999&rsquo\;s Destiny &ndash\; for sales of more than 500\,000 copies. Overall\, he&rsquo\;s sold more than 7 million albums.<br />\nHe&rsquo\;s amassed 27 Top 40 singles on the adult contemporary charts\, including 14 Top 10 smashes. His collaboration with soaring country songstress Martina McBride\, the beautiful paean to love titled &ldquo\;Valentine\,&rdquo\; scored at mainstream country radio&nbsp\;in1998\, peaking at No. 9. Other&nbsp\;Brickman&nbsp\;staples include &ldquo\;Simple Things&rdquo\; with Rebecca Lynn Howard\, &ldquo\;Peace&rdquo\; and &ldquo\;The Gift\,&rdquo\; both with Collin&nbsp\;Raye&nbsp\;and Susan Ashton\, &ldquo\;Never Alone&rdquo\; with Lady Antebellum\, and &ldquo\;Love of My Life&rdquo\; with Michael W. Smith.<br />\nThroughout his long career\,&nbsp\;Brickman&nbsp\;has also shared his artistry with luminaries such as Kenny Loggins\, Carly Simon\, Herb&nbsp\;Alpert\, Michael Bolton\, Donny Osmond\, Richie McDonald of country vocal group&nbsp\;Lonestar\, smooth jazz saxophonist Dave&nbsp\;Koz&nbsp\;\, Olivia Newton-John\, and Canadian country singer Michelle Wright. Along the way he&rsquo\;s been rewarded for his melodically sublime style with two Grammy Award nominations\, a couple of&nbsp\;SESAC&nbsp\;&ldquo\;Songwriter of the Year&rdquo\; Awards\, a Canadian Country Music Award and a Dove Award presented by the Gospel Music Association. He&rsquo\;s also the author of two best-selling books\, 2001&rsquo\;s Simple Things and 2005&rsquo\;s Love Notes\, co-written with Cindy&nbsp\;Pearlman. You can read more at www.jimbrickman.com<br />\nMusic for soothing the aches of daily life and music for hanging the mistletoe\, that&rsquo\;s the Jim&nbsp\;Brickman&nbsp\;way. The highest compliment you can pay this 51-year-old pop pianist is to tell him that his compositions became the soundtrack while delivery a baby\, taking a bubble bath\, enduring chemo therapy\, lulling your little one to sleep\, dancing with daddy at the wedding and falling in love again. &ldquo\;This is more than just &lsquo\;I love that hit song&rsquo\;\,&rdquo\;&nbsp\;Brickman&nbsp\;said. &ldquo\;It&rsquo\;s the experience. I am more about the experimental way that people use the music more so than ever. I want the music to be a constant part of their lives.&rdquo\;<br />\n
LOCATION:Tuacahn Amphitheatre 1100 Tuacahn Drive Ivins\, UT
UID:e.1117.4938
SEQUENCE:3
DTSTAMP:20260421T201538Z
URL:https://business.stgeorgechamber.com/events/details/jim-brickman-in-concert-at-tuacahn-11-07-2013-4938
END:VEVENT

END:VCALENDAR
