BEGIN:VCALENDAR
VERSION:2.0
PRODID:-//ChamberMaster//Event Calendar 2.0//EN
METHOD:PUBLISH
X-PUBLISHED-TTL:P3D
REFRESH-INTERVAL:P3D
CALSCALE:GREGORIAN
BEGIN:VEVENT
DTSTART:20130413T150000Z
DTEND:20130413T180000Z
X-MICROSOFT-CDO-ALLDAYEVENT:FALSE
SUMMARY:JDRF Walk to Cure Diabetes
DESCRIPTION:The JDRF Walk to Cure Diabetes is a fun\, happy\, healthy\, and effective way to show your support for all those living with type 1 diabetes (T1D) and to raise funds for JDRF the leading global organization focused on T1D research.\n		\n			Type 1 diabetes is an autoimmune disease in which a person's pancreas loses the ability to produce insulin a hormone essential to digestion. More than 15\,000 children and 15\,000 adults in the United States receive a diagnosis each year. That's why JDRF holds more than 200 Walks nationally every year that connect walkers to an extensive community of families\, volunteers\, and donors who are committed to fighting this serious disease.\n		\n			The JDRF Walk to Cure Diabetes has raised $1 billion to date. Your generosity helps us continue to accelerate progress in T1D research and keep people with T1D healthy while we work towards a cure.\n		\n			Thank you for your support of the JDRF Walk!
X-ALT-DESC;FMTTYPE=text/html:<div id="walk-description" style="font-family: proxima-nova-n4\, proxima-nova\, 'Helvetica Neue'\, Helvetica\, Arial\, sans-serif\; font-size: 1.02em\; margin: 0px\; padding: 10px 0px 0px\; clear: left\; color: rgb(51\, 51\, 51)\; line-height: 16.5px\;">\n	<div class="about-walk" style="font-size: 1.02em\; margin: 0px\; padding: 0px 0px 20px\; float: left\;">\n		<p style="font-size: 1.02em\; margin: 0px 0px 1.8em\; padding: 0px\;">\n			The JDRF Walk to Cure Diabetes is a fun\, happy\, healthy\, and effective way to show your support for all those living with type 1 diabetes (T1D) and to raise funds for JDRF&mdash\;the leading global organization focused on T1D research.</p>\n		<p style="font-size: 1.02em\; margin: 0px 0px 1.8em\; padding: 0px\;">\n			Type 1 diabetes is an autoimmune disease in which a person&rsquo\;s pancreas loses the ability to produce insulin&mdash\;a hormone essential to digestion. More than 15\,000 children and 15\,000 adults in the United States receive a diagnosis each year. That&rsquo\;s why JDRF holds more than 200 Walks nationally every year that connect walkers to an extensive community of families\, volunteers\, and donors who are committed to fighting this serious disease.</p>\n		<p style="font-size: 1.02em\; margin: 0px 0px 1.8em\; padding: 0px\;">\n			The JDRF Walk to Cure Diabetes has raised $1 billion to date. Your generosity helps us continue to accelerate progress in T1D research and keep people with T1D healthy while we work towards a cure.</p>\n		<p style="font-size: 1.02em\; margin: 0px 0px 1.8em\; padding: 0px\;">\n			Thank you for your support of the JDRF Walk!</p>\n	</div>\n</div>\n<br />\n
LOCATION:Crosby Confluence Park 2000 Convention Center Drive St. George\, UT
UID:e.1117.2932
SEQUENCE:3
DTSTAMP:20260422T075823Z
URL:https://business.stgeorgechamber.com/events/details/jdrf-walk-to-cure-diabetes-04-13-2013-2932
END:VEVENT

END:VCALENDAR
