BEGIN:VCALENDAR
VERSION:2.0
PRODID:-//ChamberMaster//Event Calendar 2.0//EN
METHOD:PUBLISH
X-PUBLISHED-TTL:P3D
REFRESH-INTERVAL:P3D
CALSCALE:GREGORIAN
BEGIN:VEVENT
DTSTART:20160326T013000Z
DTEND:20160326T040000Z
X-MICROSOFT-CDO-ALLDAYEVENT:FALSE
SUMMARY:Jay Leno at Tuacahn
DESCRIPTION:An indefatigable performer\, Leno loves to test his humor live on audiences across the nation\, performing over 100 live appearances in nightclubs\, theaters and stadiums each year\, including during his long Tonight Show hosting.  He has been touted as one of the nicest people in show business and the hardest-working -- a winning tandem for the man who says "Anyone can have a life - careers are hard to come by!"\n\nHis "everyman"-style and personality have helped him earn millions of fans worldwide\, especially in the regions where people relate to his personable style and work ethic. In addition to traversing the U.S.\, he has entertained in various countries\, including Bosnia\, where he performed for military troops associated with the war in Afghanistan\, and Aviano\, Italy\, where he performed for troops associated with the peacekeeping efforts in Bosnia.  He remains passionate about performing in front of live audiences\, including the military\, and appears regularly in Las Vegas\, on college campuses around the United States and in other venues.
X-ALT-DESC;FMTTYPE=text/html:An indefatigable performer\, Leno loves to test his humor live on audiences across the nation\, performing over 100 live appearances in nightclubs\, theaters and stadiums each year\, including during his long Tonight Show hosting.&nbsp\; He has been touted as one of the nicest people in show business and the hardest-working -- a winning tandem for the man who says &ldquo\;Anyone can have a life - careers are hard to come by!&rdquo\;<br />\nHis &ldquo\;everyman&rdquo\;-style and personality have helped him earn millions of fans worldwide\, especially in the regions where people relate to his personable style and work ethic. In addition to traversing the U.S.\, he has entertained in various countries\, including Bosnia\, where he performed for military troops associated with the war in Afghanistan\, and Aviano\, Italy\, where he performed for troops associated with the peacekeeping efforts in Bosnia.&nbsp\; He remains passionate about performing in front of live audiences\, including the military\, and appears regularly in Las Vegas\, on college campuses around the United States and in other venues.&nbsp\;&nbsp\;
LOCATION:Tuacahn Amphitheater 1100 Tuacahn Drive Ivins\, Utah
UID:e.1117.8495
SEQUENCE:3
DTSTAMP:20260419T233531Z
URL:https://business.stgeorgechamber.com/events/details/jay-leno-at-tuacahn-03-25-2016-8495
END:VEVENT

END:VCALENDAR
