BEGIN:VCALENDAR
VERSION:2.0
PRODID:-//ChamberMaster//Event Calendar 2.0//EN
METHOD:PUBLISH
X-PUBLISHED-TTL:P3D
REFRESH-INTERVAL:P3D
CALSCALE:GREGORIAN
BEGIN:VEVENT
DTSTART:20130512T020000Z
DTEND:20130512T040000Z
X-MICROSOFT-CDO-ALLDAYEVENT:FALSE
SUMMARY:James Sewell Ballet
DESCRIPTION:The prestigious James Sewell Ballet is back!\n\n	\n\n	"A polished gem of a chamber dance troupe from Minnesota. Mr. Sewell is one of American ballet's most inventive choreographers Different and unpredictable\, this is the company to see."
X-ALT-DESC;FMTTYPE=text/html:<p>\n	The prestigious James Sewell Ballet is back!</p>\n<p>\n	<br />\n	&quot\;A polished gem of a chamber dance troupe from Minnesota. Mr. Sewell is&hellip\;one of American ballet&#39\;s most inventive choreographers&hellip\;Different and unpredictable\, this is the company to see.&quot\;</p>\n
LOCATION:Eccles Theatre at Dixie State University
UID:e.1117.2910
SEQUENCE:3
DTSTAMP:20260422T041515Z
URL:https://business.stgeorgechamber.com/events/details/james-sewell-ballet-05-11-2013-2910
END:VEVENT

END:VCALENDAR
