BEGIN:VCALENDAR
VERSION:2.0
PRODID:-//ChamberMaster//Event Calendar 2.0//EN
METHOD:PUBLISH
X-PUBLISHED-TTL:P3D
REFRESH-INTERVAL:P3D
CALSCALE:GREGORIAN
BEGIN:VEVENT
DTSTART:20140724T130000Z
DTEND:20140724T190000Z
X-MICROSOFT-CDO-ALLDAYEVENT:FALSE
SUMMARY:Ivins Pioneer Day Celebration - 2014
DESCRIPTION:Ivins City Pioneer Day Celebration is a small home town celebration that is lots of fun and Family friendly! Thursday\, July 24th\, 2014 Schedule of Events 7:00 a.m. - Pancake Breakfast by the Ivins Volunteer Fire Association ($3.00 per person and $15.00 per family) 8:00 a.m. - Flag Raising Ceremony 9:00 a.m. - Parade 10:00 a.m. - 1:00 p.m. Music\, Entertainment\, Games\, Food. Location: IVINS CITY PARK (Center Street and Main Street behind City Hall and the Fire Department) If you would like to be a vendor at this event or enter a float in the parade\, please call for more information. The registration deadline is July 11\, 2014 We ask that you please leave your pets at home\, thank you.
X-ALT-DESC;FMTTYPE=text/html:Ivins City Pioneer Day Celebration is a small home town celebration that is lots of fun and Family friendly! Thursday\, July 24th\, 2014 Schedule of Events 7:00 a.m. - Pancake Breakfast by the Ivins Volunteer Fire Association ($3.00 per person and $15.00 per family) 8:00 a.m. - Flag Raising Ceremony 9:00 a.m. - Parade 10:00 a.m. - 1:00 p.m. Music\, Entertainment\, Games\, Food. Location: IVINS CITY PARK (Center Street and Main Street behind City Hall and the Fire Department) If you would like to be a vendor at this event or enter a float in the parade\, please call for more information. The registration deadline is July 11\, 2014 We ask that you please leave your pets at home\, thank you.
LOCATION:Ivins City Park - Main & Center Streets
UID:e.1117.4303
SEQUENCE:3
DTSTAMP:20260421T071644Z
URL:https://business.stgeorgechamber.com/events/details/ivins-pioneer-day-celebration-2014-07-24-2014-4303
END:VEVENT

END:VCALENDAR
