BEGIN:VCALENDAR
VERSION:2.0
PRODID:-//ChamberMaster//Event Calendar 2.0//EN
METHOD:PUBLISH
X-PUBLISHED-TTL:P3D
REFRESH-INTERVAL:P3D
CALSCALE:GREGORIAN
BEGIN:VEVENT
DTSTART:20140920T150000Z
DTEND:20140920T200000Z
X-MICROSOFT-CDO-ALLDAYEVENT:FALSE
SUMMARY:Ivins Heritage Days Celebration - 2014
DESCRIPTION:Ivins City Heritage Days is a home town celebration of the things that have helped to make Ivins a great place to live! 9:00 a.m. to 2:00 p.m. - There will be local vendor booths of many varieties\, games for all ages\, bounce house\, slide\, competitions (like Pie eating\, tug of war\, etc.) continuous entertainment by local artists\, Heritage Tours\, and even an old-fashioned bazaar\, sponsored by the Ivins Historical Society. Come and see what our amazing local talent can produce. 2:00 p.m. we have a Soap Box Derby\, featuring cars built by local families and businesses... it is a lot of fun! Build a car and come join us!
X-ALT-DESC;FMTTYPE=text/html:Ivins City Heritage Days is a home town celebration of the things that have helped to make Ivins a great place to live! 9:00 a.m. to 2:00 p.m. - There will be local vendor booths of many varieties\, games for all ages\, bounce house\, slide\, competitions (like Pie eating\, tug of war\, etc.) continuous entertainment by local artists\, Heritage Tours\, and even an old-fashioned bazaar\, sponsored by the Ivins Historical Society. Come and see what our amazing local talent can produce. 2:00 p.m. we have a Soap Box Derby\, featuring cars built by local families and businesses... it is a lot of fun! Build a car and come join us!
LOCATION:Ivins City Park - Main & Center Street behind City Hall.
UID:e.1117.4304
SEQUENCE:3
DTSTAMP:20260421T043142Z
URL:https://business.stgeorgechamber.com/events/details/ivins-heritage-days-celebration-2014-09-20-2014-4304
END:VEVENT

END:VCALENDAR
