BEGIN:VCALENDAR
VERSION:2.0
PRODID:-//ChamberMaster//Event Calendar 2.0//EN
METHOD:PUBLISH
X-PUBLISHED-TTL:P3D
REFRESH-INTERVAL:P3D
CALSCALE:GREGORIAN
BEGIN:VEVENT
DTSTART;VALUE=DATE:20150919
DTEND;VALUE=DATE:20150920
TRANSP:TRANSPARENT
X-MICROSOFT-CDO-ALLDAYEVENT:TRUE
SUMMARY:Ivins Heritage Days Celebration
DESCRIPTION:Ivins City Heritage Days is a home town celebration of the things that have helped to make Ivins a great place to live!
X-ALT-DESC;FMTTYPE=text/html:Ivins City Heritage Days is a home town celebration of the things that have helped to make Ivins a great place to live!&nbsp\;
LOCATION:55 N. Main Street\, Ivins City Park - Main & Center Street behind City Hall.
UID:e.1117.7105
SEQUENCE:3
DTSTAMP:20260420T100311Z
URL:https://business.stgeorgechamber.com/events/details/ivins-heritage-days-celebration-09-19-2015-7105
END:VEVENT

END:VCALENDAR
