BEGIN:VCALENDAR
VERSION:2.0
PRODID:-//ChamberMaster//Event Calendar 2.0//EN
METHOD:PUBLISH
X-PUBLISHED-TTL:P3D
REFRESH-INTERVAL:P3D
CALSCALE:GREGORIAN
BEGIN:VEVENT
DTSTART:20150404T133000Z
DTEND:20150404T180000Z
X-MICROSOFT-CDO-ALLDAYEVENT:FALSE
SUMMARY:Ivins Easter Egg Hunt and Pancake Breakfast
DESCRIPTION:Time: 9:00 a.m. (Easter Egg Hunt) 7:30 a.m.   10:00 a.m. (Pancake Breakfast)\n\nThe Ivins Easter Egg hunt is held every year at UNITY Park on the large baseball/soccer field. It begins at 7:30 a.m. with a pancake breakfast sponsored by the Ivins City Volunteer Firefighters Association. Proceeds help the City Volunteer Firefighters Association purchase needed equipment.\n\nAll participants in the Easter Egg hunt must provide their own Easter Basket.\n\nDivision 1   4 years old and Under Children in Division 1 must have the ability to walk and pick up eggs without assistance from parents\; however\, one parent may be in the hunting area with their child to give guidance and direction.\n\nDivision 2   Ages 5\, 6\, 7 and 8\n\nDivision 3   Ages 9\, 10\, 11 and 12\n\nNo parents will be allowed to help in Divisions 2 and 3!
X-ALT-DESC;FMTTYPE=text/html:<p style="float: none\; position: static\; margin: 0px 0px 10px\; padding: 0px\; border: 0px\; font-family: ProximaNova\, Helvetica\, Arial\, sans-serif\; font-stretch: inherit\; font-size: 15px\; line-height: 15px\; vertical-align: baseline\; color: rgb(0\, 0\, 0)\; box-shadow: none\; border-radius: 0px\; box-sizing: border-box\; text-shadow: none\;">Time: 9:00 a.m. (Easter Egg Hunt) 7:30 a.m. &ndash\; 10:00 a.m. (Pancake Breakfast)</p>\n\n<p style="float: none\; position: static\; margin: 0px 0px 10px\; padding: 0px\; border: 0px\; font-family: ProximaNova\, Helvetica\, Arial\, sans-serif\; font-stretch: inherit\; font-size: 15px\; line-height: 15px\; vertical-align: baseline\; color: rgb(0\, 0\, 0)\; box-shadow: none\; border-radius: 0px\; box-sizing: border-box\; text-shadow: none\;">The Ivins Easter Egg hunt is held every year at UNITY Park on the large baseball/soccer field. It begins at 7:30 a.m. with a pancake breakfast sponsored by the Ivins City Volunteer Firefighters Association. Proceeds help the City Volunteer Firefighters Association purchase needed equipment.</p>\n\n<p style="float: none\; position: static\; margin: 0px 0px 10px\; padding: 0px\; border: 0px\; font-family: ProximaNova\, Helvetica\, Arial\, sans-serif\; font-stretch: inherit\; font-size: 15px\; line-height: 15px\; vertical-align: baseline\; color: rgb(0\, 0\, 0)\; box-shadow: none\; border-radius: 0px\; box-sizing: border-box\; text-shadow: none\;">All participants in the Easter Egg hunt must provide their own Easter Basket.</p>\n\n<p style="float: none\; position: static\; margin: 0px 0px 10px\; padding: 0px\; border: 0px\; font-family: ProximaNova\, Helvetica\, Arial\, sans-serif\; font-stretch: inherit\; font-size: 15px\; line-height: 15px\; vertical-align: baseline\; color: rgb(0\, 0\, 0)\; box-shadow: none\; border-radius: 0px\; box-sizing: border-box\; text-shadow: none\;">Division 1 &ndash\; 4 years old and Under Children in Division 1 must have the ability to walk and pick up eggs without assistance from parents\; however\, one parent may be in the hunting area with their child to give guidance and direction.</p>\n\n<p style="float: none\; position: static\; margin: 0px 0px 10px\; padding: 0px\; border: 0px\; font-family: ProximaNova\, Helvetica\, Arial\, sans-serif\; font-stretch: inherit\; font-size: 15px\; line-height: 15px\; vertical-align: baseline\; color: rgb(0\, 0\, 0)\; box-shadow: none\; border-radius: 0px\; box-sizing: border-box\; text-shadow: none\;">Division 2 &ndash\; Ages 5\, 6\, 7 and 8</p>\n\n<p style="float: none\; position: static\; margin: 0px 0px 10px\; padding: 0px\; border: 0px\; font-family: ProximaNova\, Helvetica\, Arial\, sans-serif\; font-stretch: inherit\; font-size: 15px\; line-height: 15px\; vertical-align: baseline\; color: rgb(0\, 0\, 0)\; box-shadow: none\; border-radius: 0px\; box-sizing: border-box\; text-shadow: none\;">Division 3 &ndash\; Ages 9\, 10\, 11 and 12</p>\n\n<p style="float: none\; position: static\; margin: 0px 0px 10px\; padding: 0px\; border: 0px\; font-family: ProximaNova\, Helvetica\, Arial\, sans-serif\; font-stretch: inherit\; font-size: 15px\; line-height: 15px\; vertical-align: baseline\; color: rgb(0\, 0\, 0)\; box-shadow: none\; border-radius: 0px\; box-sizing: border-box\; text-shadow: none\;">No parents will be allowed to help in Divisions 2 and 3!</p>\n
LOCATION:UNITY Park (400 S between 200 W and 400 W)
UID:e.1117.6379
SEQUENCE:3
DTSTAMP:20260420T190638Z
URL:https://business.stgeorgechamber.com/events/details/ivins-easter-egg-hunt-and-pancake-breakfast-04-04-2015-6379
END:VEVENT

END:VCALENDAR
