BEGIN:VCALENDAR
VERSION:2.0
PRODID:-//ChamberMaster//Event Calendar 2.0//EN
METHOD:PUBLISH
X-PUBLISHED-TTL:P3D
REFRESH-INTERVAL:P3D
CALSCALE:GREGORIAN
BEGIN:VEVENT
DTSTART:20141120T023000Z
DTEND:20150104T050000Z
X-MICROSOFT-CDO-ALLDAYEVENT:FALSE
SUMMARY:Its a Wonderful Life
DESCRIPTION:The 1946 film that has touched hearts for decades is gracing the stage of Brigham's Playhouse as a hit musical.  Our beloved character George Bailey is weighed down by the burdens and obligations of his life.  As it becomes too much to bear\, an angel is assigned to assist him in his distress and show him the wonders of his life.  George Bailey emerges a changed man and realizes his many blessings.  With inspiring themes of hope\, family\, and love you'll come away uplifted and inspired.  Come appreciate this classic Christmas tale and rekindle your appreciation for this wonderful life.
X-ALT-DESC;FMTTYPE=text/html:The 1946 film that has touched hearts for decades is gracing the stage of Brigham&#39\;s Playhouse as a hit musical. &nbsp\;Our beloved character George Bailey is weighed down by the burdens and obligations of his life. &nbsp\;As it becomes too much to bear\, an angel is assigned to assist him in his distress and show him the wonders of his life. &nbsp\;George Bailey emerges a changed man and realizes his many blessings. &nbsp\;With inspiring themes of hope\, family\, and love you&#39\;ll come away uplifted and inspired. &nbsp\;Come appreciate this classic Christmas tale and rekindle your appreciation for this wonderful life.
LOCATION:Brigham's Playhouse 25 North 300 West Washington\, Ut 84780
UID:e.1117.6221
SEQUENCE:3
DTSTAMP:20260420T232149Z
URL:https://business.stgeorgechamber.com/events/details/its-a-wonderful-life-11-19-2014-6221
END:VEVENT

END:VCALENDAR
