BEGIN:VCALENDAR
VERSION:2.0
PRODID:-//ChamberMaster//Event Calendar 2.0//EN
METHOD:PUBLISH
X-PUBLISHED-TTL:P3D
REFRESH-INTERVAL:P3D
CALSCALE:GREGORIAN
BEGIN:VEVENT
DTSTART:20160102T210000Z
DTEND:20160102T233000Z
X-MICROSOFT-CDO-ALLDAYEVENT:FALSE
SUMMARY:It's a Wonderful Life-The Musical
DESCRIPTION:Continuing the tradition established in 2014\, Brigham's Playhouse will be bringing back It's a Wonderful Life-The Musical\, for the holiday season! Based on the movie starring Jimmy Stewart and Donna Reid\, this stage musical version will bring new life to the memorable story of George Bailey who wonders what the world would be like if he wasn't a part of it. Come and make Brigham's Playhouse a part of your holiday tradition with It's a Wonderful Life!
X-ALT-DESC;FMTTYPE=text/html:Continuing the tradition established in 2014\, Brigham&rsquo\;s Playhouse will be bringing back <em>It&rsquo\;s a Wonderful Life-The Musical</em>\, for the holiday season! Based on the movie starring Jimmy Stewart and Donna Reid\, this stage musical version will bring new life to the memorable story of George Bailey who wonders what the world would be like if he wasn&rsquo\;t a part of it. Come and make Brigham&rsquo\;s Playhouse a part of your holiday tradition with <em>It&rsquo\;s a Wonderful Life!</em>
LOCATION:Brigham's Playhouse 25 N. 300 W. Washington\, UT 84780
UID:e.1117.7336
SEQUENCE:3
DTSTAMP:20260420T013100Z
URL:https://business.stgeorgechamber.com/events/details/it-s-a-wonderful-life-the-musical-01-02-2016-7336
END:VEVENT

END:VCALENDAR
