BEGIN:VCALENDAR
VERSION:2.0
PRODID:-//ChamberMaster//Event Calendar 2.0//EN
METHOD:PUBLISH
X-PUBLISHED-TTL:P3D
REFRESH-INTERVAL:P3D
CALSCALE:GREGORIAN
BEGIN:VEVENT
DTSTART:20141115T023000Z
DTEND:20150103T190000Z
X-MICROSOFT-CDO-ALLDAYEVENT:FALSE
SUMMARY:It's a Wonderful Life
DESCRIPTION:Brigham's Playhouse presents a musical version of the timeless classic "It's a Wonderful Life". Come enjoy this Christmas tradition with George Bailey.
X-ALT-DESC;FMTTYPE=text/html:Brigham&#39\;s Playhouse presents a musical version of the timeless classic &quot\;It&#39\;s a Wonderful Life&quot\;. Come enjoy this Christmas tradition with George Bailey.
LOCATION:Brigham's Playhouse 25 North 300 West Washington\, Utah
UID:e.1117.6203
SEQUENCE:3
DTSTAMP:20260420T220830Z
URL:https://business.stgeorgechamber.com/events/details/it-s-a-wonderful-life-11-14-2014-6203
END:VEVENT

END:VCALENDAR
