BEGIN:VCALENDAR
VERSION:2.0
PRODID:-//ChamberMaster//Event Calendar 2.0//EN
METHOD:PUBLISH
X-PUBLISHED-TTL:P3D
REFRESH-INTERVAL:P3D
CALSCALE:GREGORIAN
BEGIN:VEVENT
DTSTART;VALUE=DATE:20160507
DTEND;VALUE=DATE:20160508
TRANSP:TRANSPARENT
X-MICROSOFT-CDO-ALLDAYEVENT:TRUE
SUMMARY:IronMan 70.3 St. George
DESCRIPTION:St. George plays host to the IRONMAN 70.3 North American Pro Championship\, which attracts the sports most accomplished athletes in an endurance race that features a 1.2-mile swim\, 56-mile bike and 13.1-mile run. The course takes athletes through the amazing scenery of the St. George area including the swim at Sand Hollow State Park and a ride through Snow Canyon State Park. The race will feature the top pros from around the world including several current and former World Champions and Olympians. In addition\, more than 2500 amateur athletes will test their skills on what has become a signature course on the circuit. It is arguably the toughest IRONMAN 30.3 on the calendar.
X-ALT-DESC;FMTTYPE=text/html:<header>\n<p style="box-sizing: border-box\; margin: 0.85em 0px\; padding: 0px\; border: 0px\; font-family: Lato\, HelveticaNeue\, 'Helvetica Neue'\, Helvetica\, Arial\, sans-serif\; font-stretch: inherit\; line-height: 21.4500007629395px\; vertical-align: baseline\; color: rgb(68\, 68\, 68)\;">St. George plays host to the IRONMAN 70.3 North American Pro Championship\, which attracts the sports most accomplished athletes in an endurance race that features a 1.2-mile swim\, 56-mile bike and 13.1-mile run. The course takes athletes through the amazing scenery of the St. George area including the swim at Sand Hollow State Park and a ride through Snow Canyon State Park. The race will feature the top pros from around the world including several current and former World Champions and Olympians. In addition\, more than 2500 amateur athletes will test their skills on what has become a signature course on the circuit. It is arguably the toughest IRONMAN 30.3 on the calendar.</p>\n</header>\n
LOCATION:The swim will be held at the scenic Sand Hollow State Park in Hurricane Utah. The one loop swim course will take place in the beautiful blue water of Sand Hollow Reservoir. The water temperature is expected to be between 60 and 64 degrees Fahrenheit. Bike The bike course will take athletes around Sand Hollow Reservoir through the towns of Hurricane and Washington\, before making its way toward the city of St George. After crossing the Red Hill Bluff athletes will proceed on Snow Canyon parkway and up through the picturesque Snow Canyon State Park\, before returning to town on SR 18 and finishing at T2 located in downtown St. George. Run After entering transition in St. George?s historic Town Square\, athletes will begin the one-loop course that heads out on Diagonal and Bluff Street before climbing up Red Hills Parkway through the Red Cliffs Desert Reserve. The course offers an amazing view of the city while running along the bluff before returning to the finish line located on Main Street right in the heart of down town St. George.
UID:e.1117.8607
SEQUENCE:3
DTSTAMP:20260419T183141Z
URL:https://business.stgeorgechamber.com/events/details/ironman-70-3-st-george-05-07-2016-8607
END:VEVENT

END:VCALENDAR
