BEGIN:VCALENDAR
VERSION:2.0
PRODID:-//ChamberMaster//Event Calendar 2.0//EN
METHOD:PUBLISH
X-PUBLISHED-TTL:P3D
REFRESH-INTERVAL:P3D
CALSCALE:GREGORIAN
BEGIN:VEVENT
DTSTART;VALUE=DATE:20130504
DTEND;VALUE=DATE:20130505
TRANSP:TRANSPARENT
X-MICROSOFT-CDO-ALLDAYEVENT:TRUE
SUMMARY:IronMan 70.3 St. George
DESCRIPTION:St. George\, Utah is located in the Southwest corner of Utah\, 2\,000 feet above sea level offering breathtaking views of the surrounding canyons as well as a warm climate for an early season IRONMAN 70.3 distance race.\n\n\n	St. George is only a short 45 minute drive to Mt. Zion National Park\, Utah's most popular national park with educational tours and miles of scenic hiking.  St. George also offers a walkable downtown area with great local fare\, boutique shopping\, and parks to allow spectators and athletes to enjoy the perfect spring weather. On the opposite end of the spectrum St. George is only two hours from the exciting nightlife of Las Vegas\, with endless entertainment options for adults and children.\n\n	The swim will be held at Sand Hollow Reservoir and the bike and run course offers spectacular views of downtown St. George\, Snow Canyon and Red Cliffs Desert Reserve.\n\n	There are 75 qualifying slots for the IRONMAN World Championship 70.3 in Lake Las Vegas\, Henderson\, NV.\n\n	IRONMAN 70.3 St. George is also a Regional IRONMAN TriClub Championship race. In addition to club "members only" special on site events\, athletes who are a members of a TriClub or Team\, earn bonus points for their club towards the prestigious IRONMAN TriClub Annual Podium Award. Email triclub@ironman.com for additional information.
X-ALT-DESC;FMTTYPE=text/html:<header>\n<p>\n	<span style="font-size:14px\;"><span style="font-family: arial\;">St. George\, Utah is located in the Southwest corner of Utah\, 2\,000 feet above sea level offering breathtaking views of the surrounding canyons as well as a warm climate for an early season IRONMAN 70.3 distance race.</span></span></p>\n</header>\n<p>\n	<span style="font-size:14px\;"><span style="font-family: arial\;">St. George is only a short 45 minute drive to Mt. Zion National Park\, Utah&rsquo\;s most popular national park with educational tours and miles of scenic hiking.&nbsp\; St. George also offers a walkable downtown area with great local fare\, boutique shopping\, and parks to allow spectators and athletes to enjoy the perfect spring weather. On the opposite end of the spectrum St. George is only two hours from the exciting nightlife of Las Vegas\, with endless entertainment options for adults and children.</span></span></p>\n<p>\n	<span style="font-size:14px\;"><span style="font-family: arial\;">The swim will be held at Sand Hollow Reservoir and the bike and run course offers spectacular views of downtown St. George\, Snow Canyon and Red Cliffs Desert Reserve.</span></span></p>\n<p>\n	<span style="font-size:14px\;"><span style="font-family: arial\;">There are 75 qualifying slots for the IRONMAN World Championship 70.3 in Lake Las Vegas\, Henderson\, NV.</span></span></p>\n<p>\n	<span style="font-size:14px\;"><span style="font-family: arial\;">IRONMAN 70.3 St. George is also a Regional IRONMAN TriClub Championship race. In addition to club &ldquo\;members only&rdquo\; special on site events\, athletes who are a members of a TriClub or Team\, earn bonus points for their club towards the prestigious IRONMAN TriClub Annual Podium Award. Email <a href="mailto:triclub@ironman.com">triclub@ironman.com</a> for additional information.</span></span></p>\n
LOCATION:The swim will be held at the scenic Sand Hollow State Park in Hurricane Utah. The one loop swim course will take place in the beautiful blue water of Sand Hollow Reservoir. The water temperature is expected to be between 60 and 64 degrees Fahrenheit. Bike The bike course will take athletes around Sand Hollow Reservoir through the towns of Hurricane and Washington\, before making its way toward the city of St George. After crossing the Red Hill Bluff athletes will proceed on Snow Canyon parkway and up through the picturesque Snow Canyon State Park\, before returning to town on SR 18 and finishing at T2 located in downtown St. George. Run After entering transition in St. George's historic Town Square\, athletes will begin the one-loop course that heads out on Diagonal and Bluff Street before climbing up Red Hills Parkway through the Red Cliffs Desert Reserve. The course offers an amazing view of the city while running along the bluff before returning to the finish line located on Main Street right in the heart of down town St. George.
UID:e.1117.2328
SEQUENCE:3
DTSTAMP:20260422T042316Z
URL:https://business.stgeorgechamber.com/events/details/ironman-70-3-st-george-05-04-2013-2328
END:VEVENT

END:VCALENDAR
