BEGIN:VCALENDAR
VERSION:2.0
PRODID:-//ChamberMaster//Event Calendar 2.0//EN
METHOD:PUBLISH
X-PUBLISHED-TTL:P3D
REFRESH-INTERVAL:P3D
CALSCALE:GREGORIAN
BEGIN:VEVENT
DTSTART;VALUE=DATE:20140503
DTEND;VALUE=DATE:20140504
TRANSP:TRANSPARENT
X-MICROSOFT-CDO-ALLDAYEVENT:TRUE
SUMMARY:IronMan 70.3 St. George
DESCRIPTION:70.3 triathlon. Swim in Sand Hollow reservoir. Bike thru Snow Canyon State Park. Run in downtown St. George.\n\n\n\nSATURDAY\, MAY 3\, 2014 - RACE DAY!!!!!!\n\n\n\nSTART END EVENT LOCATION\n\n4:30 a.m. 5:30 a.m. Run Gear Check-In/Athlete Bus Transition 2 at Town Square\n\n\n\n5 a.m. 6:45 a.m. Transition Open\; Body marking & Bike Gear Set-up Transition 1 at Sand Hollow State Park\n\n\n\n7 a.m. Race Start Sand Hollow State Park\n\n\n\nTOWN SQUARE ACTIVITIES:\n\n10 a.m. 3 p.m. Official IRONMAN Store Town Square\n\n\n\n10 a.m. 3 p.m. IRONMAN Village Town Square\n\n\n\n11 a.m. 5 p.m. Post-Race Athlete Food Town Square\n\n\n\n2 p.m. 5 p.m. Bike & Gear Recovery Transition 2 at Town Square\n\n\n\n2:30 p.m. 4 p.m. 2014 IRONMAN 70.3 World Championship\n\nRegistration for Qualified Athletes\n\n\n\n4:15 p.m. 2014 IRONMAN 70.3 World Championship\n\nRegistration Rolldown\n\n\n\n5 p.m. Awards Ceremony Town Square\n\n\n\n6 p.m. Post-Awards Entertainment & Volunteer Party Town Square
X-ALT-DESC;FMTTYPE=text/html:<header>\n<p>70.3 triathlon. Swim in Sand Hollow reservoir. Bike thru Snow Canyon State Park. Run in downtown St. George.<br />\n<br />\nSATURDAY\, MAY 3\, 2014 - RACE DAY!!!!!!<br />\n<br />\nSTART END EVENT LOCATION<br />\n4:30 a.m. 5:30 a.m. Run Gear Check-In/Athlete Bus Transition 2 at Town Square<br />\n<br />\n5 a.m. 6:45 a.m. Transition Open\; Body marking &amp\; Bike Gear Set-up Transition 1 at Sand Hollow State Park<br />\n<br />\n7 a.m. Race Start Sand Hollow State Park<br />\n<br />\nTOWN SQUARE ACTIVITIES:<br />\n10 a.m. 3 p.m. Official IRONMAN Store Town Square<br />\n<br />\n10 a.m. 3 p.m. IRONMAN Village Town Square<br />\n<br />\n11 a.m. 5 p.m. Post-Race Athlete Food Town Square<br />\n<br />\n2 p.m. 5 p.m. Bike &amp\; Gear Recovery Transition 2 at Town Square<br />\n<br />\n2:30 p.m. 4 p.m. 2014 IRONMAN 70.3 World Championship<br />\nRegistration for Qualified Athletes<br />\n<br />\n4:15 p.m. 2014 IRONMAN 70.3 World Championship<br />\nRegistration Rolldown<br />\n<br />\n5 p.m. Awards Ceremony Town Square<br />\n<br />\n6 p.m. Post-Awards Entertainment &amp\; Volunteer Party Town Square</p>\n</header>\n
LOCATION:The swim will be held at the scenic Sand Hollow State Park in Hurricane Utah. The one loop swim course will take place in the beautiful blue water of Sand Hollow Reservoir. The water temperature is expected to be between 60 and 64 degrees Fahrenheit. Bike The bike course will take athletes around Sand Hollow Reservoir through the towns of Hurricane and Washington\, before making its way toward the city of St George. After crossing the Red Hill Bluff athletes will proceed on Snow Canyon parkway and up through the picturesque Snow Canyon State Park\, before returning to town on SR 18 and finishing at T2 located in downtown St. George. Run After entering transition in St. George's historic Town Square\, athletes will begin the one-loop course that heads out on Diagonal and Bluff Street before climbing up Red Hills Parkway through the Red Cliffs Desert Reserve. The course offers an amazing view of the city while running along the bluff before returning to the finish line located on Main Street right in the heart of down town St. George.
UID:e.1117.5229
SEQUENCE:3
DTSTAMP:20260421T095219Z
URL:https://business.stgeorgechamber.com/events/details/ironman-70-3-st-george-05-03-2014-5229
END:VEVENT

END:VCALENDAR
