BEGIN:VCALENDAR
VERSION:2.0
PRODID:-//ChamberMaster//Event Calendar 2.0//EN
METHOD:PUBLISH
X-PUBLISHED-TTL:P3D
REFRESH-INTERVAL:P3D
CALSCALE:GREGORIAN
BEGIN:VEVENT
DTSTART;VALUE=DATE:20130502
DTEND;VALUE=DATE:20130505
TRANSP:TRANSPARENT
X-MICROSOFT-CDO-ALLDAYEVENT:TRUE
SUMMARY:IRONMAN 70.3 St. George
DESCRIPTION:ABOUT THE EVENT: IRONMAN 70.3 St. George is a 1.2mi Swim/56 mile bike/13.1 mi Run. The swim is set to take place at Sand Hallow reservoir and the bike and run course offer spectacular views of downtown St. George\, Snow Canyon\, and Red Cliffs Desert Reserve.\n\n\n\nATTENDANCE:\n\n2\,300 Athletes\n\n2\,500 Volunteers\n\n20\,000 Spectators\n\n\n\nWe have a 2-day health/fitness expo for local businesses to participate.\n\n\n\nAthlete demographics:\n\n-Avg. income 151K/year.\n\n-90% post secondary education.\n\n-72% occupation as professional or executive.\n\n-65/35% male to female participation.\n\n\n\nPlease contact Chris Sankey at chris.sankey@ironman.com or (813)868-4662 for inquiries.
X-ALT-DESC;FMTTYPE=text/html:ABOUT THE EVENT: IRONMAN 70.3 St. George is a 1.2mi Swim/56 mile bike/13.1 mi Run. The swim is set to take place at Sand Hallow reservoir and the bike and run course offer spectacular views of downtown St. George\, Snow Canyon\, and Red Cliffs Desert Reserve.<br />\n<br />\nATTENDANCE:<br />\n2\,300 Athletes<br />\n2\,500 Volunteers<br />\n20\,000 Spectators<br />\n<br />\nWe have a 2-day health/fitness expo for local businesses to participate.<br />\n<br />\nAthlete demographics:<br />\n-Avg. income 151K/year.<br />\n-90% post secondary education.<br />\n-72% occupation as professional or executive.<br />\n-65/35% male to female participation.<br />\n<br />\nPlease contact Chris Sankey at <a href="mailto:chris.sankey@ironman.com">chris.sankey@ironman.com</a> or (813)868-4662 for inquiries. 
LOCATION:Sand Hallow State Park
UID:e.1117.2903
SEQUENCE:3
DTSTAMP:20260422T055014Z
URL:https://business.stgeorgechamber.com/events/details/ironman-70-3-st-george-05-02-2013-2903
END:VEVENT

END:VCALENDAR
