BEGIN:VCALENDAR
VERSION:2.0
PRODID:-//ChamberMaster//Event Calendar 2.0//EN
METHOD:PUBLISH
X-PUBLISHED-TTL:P3D
REFRESH-INTERVAL:P3D
CALSCALE:GREGORIAN
BEGIN:VEVENT
DTSTART:20150516T140000Z
DTEND:20150516T180000Z
X-MICROSOFT-CDO-ALLDAYEVENT:FALSE
SUMMARY:?IRON COUNTY CHILDREN?S JUSTICE CENTER RUN FOR THE KIDS?
DESCRIPTION:THE IRON COUNTY CHILDRENS JUSTICE CENTER annual 5K and Quarter Marathon will be held May 16\, 2015. The event will start at 8am at the Children's Justice Center at 545 S 225 E in Cedar City. All proceeds will go to support the Children's Justice Center in their efforts against child abuse. The Children's Justice Center is a nonprofit organization serving Iron\, Beaver\, Garfield & Kane County that coordinates with Law Enforcement and Child Protective Services in providing the best care possible to child victims and their families. Entry fees are $25.00 for the 5K and $25.00 for the Quarter Marathon. Team Category available for 5 or more people contact the Center directly for Team signups. Awards and prizes will be given away at the conclusion of the race. With a grand prize of a Kindle Fire and an opportunity to win an entry into the St George Marathon. Please call the Center at (435) 867-4275 for registration information\, or you can register online at https://www.raceentry.com/race-reviews/iron-county-childrens-justice-center-run-for-the-kids
X-ALT-DESC;FMTTYPE=text/html:THE IRON COUNTY CHILDRENS JUSTICE CENTER annual 5K and Quarter Marathon will be held May 16\, 2015. The event will start at 8am at the Children&#39\;s Justice Center at 545 S 225 E in Cedar City. All proceeds will go to support the Children&#39\;s Justice Center in their efforts against child abuse. The Children&#39\;s Justice Center is a nonprofit organization serving Iron\, Beaver\, Garfield &amp\; Kane County that coordinates with Law Enforcement and Child Protective Services in providing the best care possible to child victims and their families. Entry fees are $25.00 for the 5K and $25.00 for the Quarter Marathon. Team Category available for 5 or more people contact the Center directly for Team signups. Awards and prizes will be given away at the conclusion of the race. With a grand prize of a Kindle Fire and an opportunity to win an entry into the St George Marathon. Please call the Center at (435) 867-4275 for registration information\, or you can register online at https://www.raceentry.com/race-reviews/iron-county-childrens-justice-center-run-for-the-kids
LOCATION:Iron County Children's Justice Center 545 S 225 E\, Cedar City\, UT 84720
UID:e.1117.6390
SEQUENCE:3
DTSTAMP:20260420T155636Z
URL:https://business.stgeorgechamber.com/events/details/iron-county-children-s-justice-center-run-for-the-kids-05-16-2015-6390
END:VEVENT

END:VCALENDAR
