BEGIN:VCALENDAR
VERSION:2.0
PRODID:-//ChamberMaster//Event Calendar 2.0//EN
METHOD:PUBLISH
X-PUBLISHED-TTL:P3D
REFRESH-INTERVAL:P3D
CALSCALE:GREGORIAN
BEGIN:VEVENT
DTSTART:20141009T010000Z
DTEND:20141009T030000Z
X-MICROSOFT-CDO-ALLDAYEVENT:FALSE
SUMMARY:International Package Snack Tasting
DESCRIPTION:International Package Snack Tasting 2014 World Tour\, fund raiser for the Washington County Family Support Center on the Chamber's Event Calendar.  \n\n  \n\n1Law\, Cache Valley Bank\, Cutting Edge Landscape\,  Advanced Care & Chiropractic\, Stout Roofing\, and  the Courtyard by Marriott are a few\, who are coming together\, to sponsor an International Package Snack Tasting 2014 World Tour to raise money and bring an awareness to the community of the Family Support Center.   \n\n \n\nWhat the heck is an International Packaged Snack Tasting Event?  Think wine and cheese . . . but without the wine and cheese.  There will be junk food though.  Potatoes Chips\, Chocolate Bars\, Candy of all sorts.  You will have the unique opportunity to sample some of the strangest snack foods the World has to offer. \n\n \n\nWe are extending an invitation to all to support the Family Support Center's efforts to strengthen Washington County families\, and help prevent Child abuse. \n\n \n\nThe Family Support Center is a nonprofit organization that operates on funding from federal grants and the generosity of private groups and individuals.  The FSC provides crisis child care of children ages birth through eleven years of age.  The hours are available twenty-four hours a day\, seven days a week.  Parents/guardians may bring their children in for up to 72 hours at times when they are feeling stressed out of control\, or when they need to deal with personal or family crisis/emergency situations.
X-ALT-DESC;FMTTYPE=text/html:<p><span style="font-size:14px\;"><span style="font-family:arial\;">International Package Snack Tasting 2014 World Tour\, fund raiser for the Washington County Family Support Center on the Chamber&rsquo\;s Event Calendar. &nbsp\;<br />\n&nbsp\;&nbsp\;<br />\n1Law\, Cache Valley Bank\, Cutting Edge Landscape\,&nbsp\; Advanced Care &amp\; Chiropractic\, Stout Roofing\, and&nbsp\; the Courtyard by Marriott are a few\, who are coming together\, to sponsor an International Package Snack Tasting 2014 World Tour to raise money and bring an awareness to the community of the Family Support Center.&nbsp\;&nbsp\;&nbsp\;<br />\n&nbsp\;<br />\nWhat the heck is an International Packaged Snack Tasting Event?&nbsp\; Think wine and cheese . . . but without the wine and cheese.&nbsp\; There will be junk food though.&nbsp\; Potatoes Chips\, Chocolate Bars\, Candy of all sorts.&nbsp\; You will have the unique opportunity to sample some of the strangest snack foods the World has to offer.&nbsp\;<br />\n&nbsp\;<br />\nWe are extending an invitation to all to support the Family Support Center&rsquo\;s efforts to strengthen Washington County families\, and help prevent Child abuse.&nbsp\;<br />\n&nbsp\;<br />\nThe Family Support Center is a nonprofit organization that operates on funding from federal grants and the generosity of private groups and individuals.&nbsp\; The FSC provides crisis child care of children ages birth through eleven years of age.&nbsp\; The hours are available twenty-four hours a day\, seven days a week.&nbsp\; Parents/guardians may bring their children in for up to 72 hours at times when they are feeling stressed out of control\, or when they need to deal with personal or family crisis/emergency situations. &nbsp\;</span></span></p>\n
LOCATION:Courtyard by Marriott
UID:e.1117.6118
SEQUENCE:3
DTSTAMP:20260421T025730Z
URL:https://business.stgeorgechamber.com/events/details/international-package-snack-tasting-10-08-2014-6118
END:VEVENT

END:VCALENDAR
