BEGIN:VCALENDAR
VERSION:2.0
PRODID:-//ChamberMaster//Event Calendar 2.0//EN
METHOD:PUBLISH
X-PUBLISHED-TTL:P3D
REFRESH-INTERVAL:P3D
CALSCALE:GREGORIAN
BEGIN:VEVENT
DTSTART:20150226T183000Z
DTEND:20150226T210000Z
X-MICROSOFT-CDO-ALLDAYEVENT:FALSE
SUMMARY:International Business Forum
DESCRIPTION:In order to achieve the Governor's goal of leading the nation as the best performing economy\, the World Trade Center Utah (WTC Utah) is committed to expanding its services and resources throughout Utah. Through our new WTC Rural Utah Program\, the center will help rural businesses "Think\, Act and Succeed Globally." Economic expansion requires the efforts of business leaders\, elected officials\, government employees\, education leaders\, chamber members\, community associations\, tourism offices and many others.\n\n\n\nA panel of international business experts will present the economic benefits of exporting and provide tools and resources to help businesses in Southern Utah "go global." \n\n\n\nThe forum is free to business leaders/owners\, government officials\, community leaders\, education leaders and anyone else who is interested in the economic strength of Southern Utah. Attending the forum will increase your knowledge about demystify the sometimes "daunting" process of exporting and provide the tools and resources necessary for local businesses to find success in the international market.
X-ALT-DESC;FMTTYPE=text/html:<p style="color: rgb(0\, 0\, 0)\; font-family: Verdana\, Geneva\, Arial\, Helvetica\, sans-serif\; line-height: normal\; font-size: 11pt\;"><span style="color:#000000\;"><span style="font-family:arial\;"><span style="margin: 0px\; padding: 0px\; border: 0px\; outline: 0px\; vertical-align: baseline\; line-height: 1.6em\; white-space: pre-wrap\; background: transparent\;">In order to achieve the Governor&rsquo\;s goal of leading the nation as the best performing economy\, the World Trade Center Utah (WTC Utah) is committed to expanding its services and resources throughout Utah. Through our new WTC Rural Utah Program\, the center will help rural businesses &ldquo\;Think\, Act and S</span><span style="line-height: 23.7999992370605px\;">ucceed Globally.&rdquo\; Economic expansion requires the efforts of business leaders\, elected officials\, government employees\, education leaders\, chamber members\, community associations\, tourism offices and many others.</span><br />\n<br />\n<span face="Times New Roman" size="3">A panel of international business experts will present the economic benefits of exporting and provide tools and resources to help businesses in Southern Utah &quot\;go global.&quot\;&nbsp\;<br />\n<br />\nThe forum is free to business leaders/owners\, government officials\, community leaders\, education leaders and anyone else who is interested in the economic strength of Southern Utah. Attending the forum will increase your knowledge about demystify the sometimes &quot\;daunting&quot\; process of exporting and provide the tools and resources necessary for local businesses to find success in the international market.</span></span></span></p>\n
LOCATION:Dixie State University Gardner Center Ballroom 225 S. 700 E. St. George
UID:e.1117.6306
SEQUENCE:3
DTSTAMP:20260420T205133Z
URL:https://business.stgeorgechamber.com/events/details/international-business-forum-02-26-2015-6306
END:VEVENT

END:VCALENDAR
