BEGIN:VCALENDAR
VERSION:2.0
PRODID:-//ChamberMaster//Event Calendar 2.0//EN
METHOD:PUBLISH
X-PUBLISHED-TTL:P3D
REFRESH-INTERVAL:P3D
CALSCALE:GREGORIAN
BEGIN:VEVENT
DTSTART:20140426T013000Z
DTEND:20140427T040000Z
X-MICROSOFT-CDO-ALLDAYEVENT:FALSE
SUMMARY:Hurricane Valley Theatrical Company "Beauty and the Beast"
DESCRIPTION:Hurricane Valley Theatrical Company   proudly supported and produced by the City of Hurricane   presents Disney's "Beauty and the Beast\," April 11-May 3 at the Hurricane Fine Arts Center.\n\n\n\nHVTC recently finished its successful run of "Les Mis rables" in November\, and the artistic director and producers wondered what classic show should follow up this iconic production. They were\, of course\, pleased to be offered the coveted rights to Boublil and Sh nbergs's timeless masterpiece in the first place and were very happy to have their version be so well received. It was a long shot to be granted their hopeful request of Disney's "Beauty and the Beast\," but somehow\, someway\, they landed the rights and couldn't be more excited to bring Disney's timeless classic to the City of Hurricane and surrounding areas.\n\nTo most\, "Beauty and the Beast\," like "Les Mis rables\," is most often produced in such a way that the story is easily lost and upstaged by the glitter and glam of the technical "oohs" and "ahs" and booming vocals of the show. HVTC strived\, and hopefully accomplished\, in "Les Mis rables" to share the story and lessons therein and trim the fluff of what audiences most often see in other productions. That is their main focus here again with "Beauty and the Beast."\n\n\n\nBeauty and the Beast" stars Skyler Scott as Beast\, Tazia Murie and Sammy Myers in the double-cast role of Belle\, Barb Christensen and Janet Leavitt as Mrs. Potts\, Errol Jones as Maurice\, Kaden Bundy as Gaston\, Trevor Gorton as Lefou\, Brad Christensen as Cogsworth\, Jared Davis as Lumiere\, Ashli Davenport and Aubree Christensen as Babette\, Ashlyn Steele and Sophia McCausland as Chip\, Stockton Myers as M. D'Arque and Graig Patrallia as the Prince.\n\n\n\nHVTC is proud to share this story of love and acceptance to the community. As they did with "Les Mis\," the theater group promises to deliver a show that is worth every penny and minute spent!
X-ALT-DESC;FMTTYPE=text/html:<p><span style="font-size:14px\;"><span style="font-family:arial\;">Hurricane Valley Theatrical Company &ndash\; proudly supported and produced by the City of Hurricane &ndash\; presents Disney&rsquo\;s &ldquo\;Beauty and the Beast\,&rdquo\; April 11-May 3 at the Hurricane Fine Arts Center.<br />\n<br />\nHVTC recently finished its successful run of &ldquo\;Les Mis&eacute\;rables&rdquo\; in November\, and the artistic director and producers wondered what classic show should follow up this iconic production. They were\, of course\, pleased to be offered the coveted rights to Boublil and Sh&ouml\;nbergs&rsquo\;s timeless masterpiece in the first place and were very happy to have their version be so well received. It was a long shot to be granted their hopeful request of Disney&rsquo\;s &ldquo\;Beauty and the Beast\,&rdquo\; but somehow\, someway\, they landed the rights and couldn&rsquo\;t be more excited to bring Disney&rsquo\;s timeless classic to the City of Hurricane and surrounding areas.<br />\nTo most\, &ldquo\;Beauty and the Beast\,&rdquo\; like &ldquo\;Les Mis&eacute\;rables\,&rdquo\; is most often produced in such a way that the story is easily lost and upstaged by the glitter and glam of the technical &ldquo\;oohs&rdquo\; and &ldquo\;ahs&rdquo\; and booming vocals of the show. HVTC strived\, and hopefully accomplished\, in &ldquo\;Les Mis&eacute\;rables&rdquo\; to share the story and lessons therein and trim the fluff of what audiences most often see in other productions. That is their main focus here again with &ldquo\;Beauty and the Beast.&rdquo\;<br />\n<br />\nBeauty and the Beast&rdquo\; stars Skyler Scott as Beast\, Tazia Murie and Sammy Myers in the double-cast role of Belle\, Barb Christensen and Janet Leavitt as Mrs. Potts\, Errol Jones as Maurice\, Kaden Bundy as Gaston\, Trevor Gorton as Lefou\, Brad Christensen as Cogsworth\, Jared Davis as Lumiere\, Ashli Davenport and Aubree Christensen as Babette\, Ashlyn Steele and Sophia McCausland as Chip\, Stockton Myers as M. D&rsquo\;Arque and Graig Patrallia as the Prince.<br />\n<br />\nHVTC is proud to share this story of love and acceptance to the community. As they did with &ldquo\;Les Mis\,&rdquo\; the theater group promises to deliver a show that is worth every penny and minute spent!</span></span></p>\n
LOCATION:Hurricane Fine Arts Center 92 S. 100 West in Hurricane
UID:e.1117.5222
SEQUENCE:3
DTSTAMP:20260421T112738Z
URL:https://business.stgeorgechamber.com/events/details/hurricane-valley-theatrical-company-beauty-and-the-beast-04-25-2014-5222
END:VEVENT

END:VCALENDAR
