BEGIN:VCALENDAR
VERSION:2.0
PRODID:-//ChamberMaster//Event Calendar 2.0//EN
METHOD:PUBLISH
X-PUBLISHED-TTL:P3D
REFRESH-INTERVAL:P3D
CALSCALE:GREGORIAN
BEGIN:VEVENT
DTSTART;VALUE=DATE:20150516
DTEND;VALUE=DATE:20150517
TRANSP:TRANSPARENT
X-MICROSOFT-CDO-ALLDAYEVENT:TRUE
SUMMARY:Hurricane Mud Run - Corporate Teams Welcome
DESCRIPTION:Hurricane Mud Run - looking for Corporate Teams Team work and commraderie = SUCCESS! Strengthen your team relationships while promoting health and fitness. Sign up for the Hurricane Mud Run. This isn't your typical little team building exercise-it's an unforgettably fun day of mud and obstacles galore! Our course is designed to promote team work. Run your group as one team or break down into smaller teams and compete against each other for office bragging rights. This is the type of event your co-workers will talk about for years to come. Remember the mud run?  Here are the details: Our normal rates are priced below the average entry fee for these types of events. We offer a 10% team discount for groups of 4 or more. For Corporate Teams of 8 or more individuals we offer an additional 10% discount. Plus we can have custom T-shirts designed for your teams. We MUST have you registered by April 16th\, 2015 for custom shirts. Contact us (fun@hurricanemudrun.com) and we can set-up your special Corporate Team discount code. And get ready for FUN!
X-ALT-DESC;FMTTYPE=text/html:Hurricane Mud Run - looking for Corporate Teams Team work and commraderie = SUCCESS! Strengthen your team relationships while promoting health and fitness. Sign up for the Hurricane Mud Run. This isn&#39\;t your typical little team building exercise-it&#39\;s an unforgettably fun day of mud and obstacles galore! Our course is designed to promote team work. Run your group as one team or break down into smaller teams and compete against each other for office bragging rights. This is the type of event your co-workers will talk about for years to come. Remember the mud run? &nbsp\;Here are the details: Our normal rates are priced below the average entry fee for these types of events. We offer a 10% team discount for groups of 4 or more. For Corporate Teams of 8 or more individuals we offer an additional 10% discount. Plus we can have custom T-shirts designed for your teams. We MUST have you registered by April 16th\, 2015 for custom shirts. Contact us (fun@hurricanemudrun.com) and we can set-up your special Corporate Team discount code. And get ready for FUN!
LOCATION:Hurricane\, Utah
UID:e.1117.6299
SEQUENCE:3
DTSTAMP:20260420T155126Z
URL:https://business.stgeorgechamber.com/events/details/hurricane-mud-run-corporate-teams-welcome-05-16-2015-6299
END:VEVENT

END:VCALENDAR
