BEGIN:VCALENDAR
VERSION:2.0
PRODID:-//ChamberMaster//Event Calendar 2.0//EN
METHOD:PUBLISH
X-PUBLISHED-TTL:P3D
REFRESH-INTERVAL:P3D
CALSCALE:GREGORIAN
BEGIN:VEVENT
DTSTART:20210915T173000Z
DTEND:20210915T190000Z
X-MICROSOFT-CDO-ALLDAYEVENT:FALSE
SUMMARY:Huntsman World Senior Games Preview Luncheon
DESCRIPTION:Every October since 1987\, the Saint George area hosts thousands of athletes\, families\, fans\, and friends for the Huntsman Senior Games! The games were created to encourage healthy activity and lifestyle among our seniors. \n\n \nIn 1989 Jon M. Huntsman\, Chairman of the Huntsman Corporation\, became the Games' principal sponsor after recognizing that the Games not only fostered lifetime fitness\, but also expanded Utah's economic vitality. A proud supporter of the Games\, the Huntsman family continues to open the Games personally\, with a warm welcome to the athletes and the lighting of the torch in traditional Olympic fashion during the Opening Ceremonies.\n\nSince its inception\, the Games have been open to all men and women meeting the age requirement. The second year of the Games the age requirement was reduced from age 55 to age 50 to include more athletes and to encourage those looking at retirement to become involved in a personal fitness program or team sport.
X-ALT-DESC;FMTTYPE=text/html:<span style="font-size:12px\;"><span style="font-family:arial\;">Every October since 1987\, the Saint George area hosts thousands of athletes\, families\, fans\, and friends for the Huntsman Senior Games! The games were created to encourage healthy activity and lifestyle among our seniors. </span></span><br />\n&nbsp\;\n<p style="box-sizing: border-box\; border: 0px solid rgb(224\, 224\, 224)\; margin: 0px 0px 1.5rem\; caret-color: rgb(0\, 0\, 0)\; color: rgb(0\, 0\, 0)\; font-family: museo-sans-rounded\, system-ui\, -apple-system\, BlinkMacSystemFont\, &quot\;Segoe UI&quot\;\, Roboto\, &quot\;Helvetica Neue&quot\;\, Arial\, &quot\;Noto Sans&quot\;\, sans-serif\, &quot\;Apple Color Emoji&quot\;\, &quot\;Segoe UI Emoji&quot\;\, &quot\;Segoe UI Symbol&quot\;\, &quot\;Noto Color Emoji&quot\;\; font-style: normal\; font-variant-caps: normal\; font-weight: normal\; letter-spacing: 0.6399999856948853px\; orphans: auto\; text-align: start\; text-indent: 0px\; text-transform: none\; white-space: normal\; widows: auto\; word-spacing: 0px\; -webkit-text-size-adjust: auto\; -webkit-text-stroke-width: 0px\; text-decoration: none\;"><span style="font-size:12px\;"><span style="font-family:arial\;">In 1989 Jon M. Huntsman\, Chairman of the Huntsman Corporation\, became the Games&#39\; principal sponsor after recognizing that the Games not only fostered lifetime fitness\, but also expanded Utah&#39\;s economic vitality. A proud supporter of the Games\, the Huntsman family continues to open the Games personally\, with a warm welcome to the athletes and the lighting of the torch in traditional Olympic fashion during the Opening Ceremonies.</span></span></p>\n\n<p style="box-sizing: border-box\; border: 0px solid rgb(224\, 224\, 224)\; margin: 0px 0px 1.5rem\; caret-color: rgb(0\, 0\, 0)\; color: rgb(0\, 0\, 0)\; font-family: museo-sans-rounded\, system-ui\, -apple-system\, BlinkMacSystemFont\, &quot\;Segoe UI&quot\;\, Roboto\, &quot\;Helvetica Neue&quot\;\, Arial\, &quot\;Noto Sans&quot\;\, sans-serif\, &quot\;Apple Color Emoji&quot\;\, &quot\;Segoe UI Emoji&quot\;\, &quot\;Segoe UI Symbol&quot\;\, &quot\;Noto Color Emoji&quot\;\; font-style: normal\; font-variant-caps: normal\; font-weight: normal\; letter-spacing: 0.6399999856948853px\; orphans: auto\; text-align: start\; text-indent: 0px\; text-transform: none\; white-space: normal\; widows: auto\; word-spacing: 0px\; -webkit-text-size-adjust: auto\; -webkit-text-stroke-width: 0px\; text-decoration: none\;"><span style="font-size:12px\;"><span style="font-family:arial\;">Since its inception\, the Games have been open to all men and women meeting the age requirement. The second year of the Games the age requirement was reduced from age 55 to age 50 to include more athletes and to encourage those looking at retirement to become involved in a personal fitness program or team sport.</span></span></p>\n
LOCATION:Best Western Abbey Inn
UID:e.1117.16101
SEQUENCE:3
DTSTAMP:20260425T033900Z
URL:https://business.stgeorgechamber.com/events/details/huntsman-world-senior-games-preview-luncheon-16101
END:VEVENT

END:VCALENDAR
